BEGIN:VCALENDAR
VERSION:2.0
PRODID:-//Aging Care Connections - ECPv6.15.20//NONSGML v1.0//EN
CALSCALE:GREGORIAN
METHOD:PUBLISH
X-WR-CALNAME:Aging Care Connections
X-ORIGINAL-URL:https://www.agingcareconnections.org
X-WR-CALDESC:Events for Aging Care Connections
REFRESH-INTERVAL;VALUE=DURATION:PT1H
X-Robots-Tag:noindex
X-PUBLISHED-TTL:PT1H
BEGIN:VTIMEZONE
TZID:America/Chicago
BEGIN:DAYLIGHT
TZOFFSETFROM:-0600
TZOFFSETTO:-0500
TZNAME:CDT
DTSTART:20230312T080000
END:DAYLIGHT
BEGIN:STANDARD
TZOFFSETFROM:-0500
TZOFFSETTO:-0600
TZNAME:CST
DTSTART:20231105T070000
END:STANDARD
BEGIN:DAYLIGHT
TZOFFSETFROM:-0600
TZOFFSETTO:-0500
TZNAME:CDT
DTSTART:20240310T080000
END:DAYLIGHT
BEGIN:STANDARD
TZOFFSETFROM:-0500
TZOFFSETTO:-0600
TZNAME:CST
DTSTART:20241103T070000
END:STANDARD
BEGIN:DAYLIGHT
TZOFFSETFROM:-0600
TZOFFSETTO:-0500
TZNAME:CDT
DTSTART:20250309T080000
END:DAYLIGHT
BEGIN:STANDARD
TZOFFSETFROM:-0500
TZOFFSETTO:-0600
TZNAME:CST
DTSTART:20251102T070000
END:STANDARD
BEGIN:DAYLIGHT
TZOFFSETFROM:-0600
TZOFFSETTO:-0500
TZNAME:CDT
DTSTART:20260308T080000
END:DAYLIGHT
BEGIN:STANDARD
TZOFFSETFROM:-0500
TZOFFSETTO:-0600
TZNAME:CST
DTSTART:20261101T070000
END:STANDARD
END:VTIMEZONE
BEGIN:VEVENT
DTSTART;TZID=America/Chicago:20250115T080000
DTEND;TZID=America/Chicago:20250115T100000
DTSTAMP:20260425T104304
CREATED:20241231T233511Z
LAST-MODIFIED:20241231T233511Z
UID:2695-1736928000-1736935200@www.agingcareconnections.org
SUMMARY:Senior Walking Club
DESCRIPTION:Join us for fitness and fun! \nNo registration is required.
URL:https://www.agingcareconnections.org/event/senior-walking-club-15/
LOCATION:Summit Park District\, 5700 S. Archer Ave\, Summit\, IL\, United States
CATEGORIES:Fitness
ATTACH;FMTTYPE=image/jpeg:https://www.agingcareconnections.org/wp-content/uploads/2024/11/ACC-Senior-Walking-Club-Calendar-Image-1.jpg
END:VEVENT
BEGIN:VEVENT
DTSTART;TZID=America/Chicago:20250114T133000
DTEND;TZID=America/Chicago:20250114T150000
DTSTAMP:20260425T104304
CREATED:20250101T004715Z
LAST-MODIFIED:20250101T004715Z
UID:2741-1736861400-1736866800@www.agingcareconnections.org
SUMMARY:Alzheimer's and Other Dementia Support Group
DESCRIPTION:A support group for those who care for someone who has been diagnosed with Alzheimer’s disease or dementia. \nNo registration required.
URL:https://www.agingcareconnections.org/event/alzheimers-and-other-dementia-support-group-4/
LOCATION:Aging Care Connections\, 111 W. Harris Avenue\, La Grange\, IL\, 60525\, United States
CATEGORIES:Support Group
ATTACH;FMTTYPE=image/jpeg:https://www.agingcareconnections.org/wp-content/uploads/2024/11/ACC-Support-Group-Calendar-Image.jpg
END:VEVENT
BEGIN:VEVENT
DTSTART;TZID=America/Chicago:20250114T133000
DTEND;TZID=America/Chicago:20250114T143000
DTSTAMP:20260425T104304
CREATED:20241231T234805Z
LAST-MODIFIED:20241231T234805Z
UID:2704-1736861400-1736865000@www.agingcareconnections.org
SUMMARY:HUH - Help Us Hear
DESCRIPTION:Support and learning group for those with hearing loss and those that support loved ones with hearing loss. \nFacilitator: Carol Johnson \nFor questions\, contact barteaga@agingcareconnections.org or call 708-603-2277. \nRegistration is required. \nTo register:
URL:https://www.agingcareconnections.org/event/huh-help-us-hear-3/
LOCATION:La Grange Park Public Library\, 555 N. La Grange Road\, La Grange\, Illinois
CATEGORIES:Health & Wellness,Support Group
ATTACH;FMTTYPE=image/jpeg:https://www.agingcareconnections.org/wp-content/uploads/2024/11/ACC-Help-Us-Hear-Calendar-Image.jpg
END:VEVENT
BEGIN:VEVENT
DTSTART;TZID=America/Chicago:20250114T113000
DTEND;TZID=America/Chicago:20250114T123000
DTSTAMP:20260425T104304
CREATED:20250110T195352Z
LAST-MODIFIED:20250110T195515Z
UID:2748-1736854200-1736857800@www.agingcareconnections.org
SUMMARY:Happy Hour - NEW EVENT!
DESCRIPTION:Come hear some good news for a change. Every month will be filled with things to laugh about\, be grateful for\, and heartwarming stories from around the world. We can even share good news with each other. It’s cold outside. Come in and feel warm! \nRegistration required. \nTo register: \n\n                \n                        \n                            Happy Hour 1.14.25\n                            Workshop Registration \n                        \n                        Name(Required)\n                            \n                            \n                                                    \n                                                    First\n                                                \n                            \n                            \n                                                    \n                                                    Last\n                                                \n                            \n                        Email(Required)\n                            \n                        Phone(Required)Number attending(Required)1234
URL:https://www.agingcareconnections.org/event/happy-hour-new-event/
LOCATION:Aging Care Connections\, 111 W. Harris Avenue\, La Grange\, IL\, 60525\, United States
CATEGORIES:Community,Social
ATTACH;FMTTYPE=image/jpeg:https://www.agingcareconnections.org/wp-content/uploads/2025/01/ACC-Happy-Hour-Calendar-Image.jpg
END:VEVENT
BEGIN:VEVENT
DTSTART;TZID=America/Chicago:20250114T103000
DTEND;TZID=America/Chicago:20250114T113000
DTSTAMP:20260425T104304
CREATED:20241231T235100Z
LAST-MODIFIED:20241231T235100Z
UID:2709-1736850600-1736854200@www.agingcareconnections.org
SUMMARY:Coffee & Art
DESCRIPTION:Enjoy a warm drink and indulge your creative side with friends. \nNo experience needed. All supplies provided! \nNo registration required.
URL:https://www.agingcareconnections.org/event/coffee-art/
LOCATION:Summit Public Library\, 6233 S. Archer Rd.\, Summmit\, IL\, United States
CATEGORIES:Arts & Crafts,Community,Social
END:VEVENT
BEGIN:VEVENT
DTSTART;TZID=America/Chicago:20250113T080000
DTEND;TZID=America/Chicago:20250113T100000
DTSTAMP:20260425T104304
CREATED:20241231T233436Z
LAST-MODIFIED:20241231T233436Z
UID:2693-1736755200-1736762400@www.agingcareconnections.org
SUMMARY:Senior Walking Club
DESCRIPTION:Join us for fitness and fun! \nNo registration is required.
URL:https://www.agingcareconnections.org/event/senior-walking-club-14/
LOCATION:Summit Park District\, 5700 S. Archer Ave\, Summit\, IL\, United States
CATEGORIES:Fitness
ATTACH;FMTTYPE=image/jpeg:https://www.agingcareconnections.org/wp-content/uploads/2024/11/ACC-Senior-Walking-Club-2-Calendar-Image.jpg
END:VEVENT
BEGIN:VEVENT
DTSTART;TZID=America/Chicago:20250110T133000
DTEND;TZID=America/Chicago:20250110T150000
DTSTAMP:20260425T104304
CREATED:20250101T004323Z
LAST-MODIFIED:20250101T005759Z
UID:2735-1736515800-1736521200@www.agingcareconnections.org
SUMMARY:Caregiver Support Group
DESCRIPTION:The demands of being a caregiver can be tiring and time-consuming. Caring for yourself is critical. Led by aging care experts\, caregivers share stories\, exchange ideas and learn more about living with the disease and the resources available. \nNo registration required.
URL:https://www.agingcareconnections.org/event/caregiver-support-group-7/
LOCATION:Senior Assistance Center\, 7774 W. Irving Park Rd.\, Norridge\, Illinois\, 60706
CATEGORIES:Support Group
ATTACH;FMTTYPE=image/jpeg:https://www.agingcareconnections.org/wp-content/uploads/2024/11/ACC-Caregiver-Support-Group-Calendar-Image.jpg
END:VEVENT
BEGIN:VEVENT
DTSTART;TZID=America/Chicago:20250108T130000
DTEND;TZID=America/Chicago:20250108T130000
DTSTAMP:20260425T104304
CREATED:20241231T234215Z
LAST-MODIFIED:20241231T234215Z
UID:2701-1736341200-1736341200@www.agingcareconnections.org
SUMMARY:Qi Gong
DESCRIPTION:Qi Gong is an ancient practice involving coordinated body movements\, breathing\, and meditation to enhance health and spirituality. Originating from Chinese medicine\, philosophy\, and martial arts\, it aims to balance and cultivate “Qi\,” or life energy. \nInstructor: Tom Wilkens of Dancing Cranes \nFor questions\, contact Barb Kohley at bkohley@agingcareconnections.org or call 708-603-2259. \nRegistration is required. \nTo register:
URL:https://www.agingcareconnections.org/event/qi-gong-4/
LOCATION:Aging Care Connections\, 111 W. Harris Avenue\, La Grange\, IL\, 60525\, United States
CATEGORIES:Fitness,Health & Wellness
ATTACH;FMTTYPE=image/jpeg:https://www.agingcareconnections.org/wp-content/uploads/2024/11/ACC-Qi-Gong-Calendar-Image.jpg
END:VEVENT
BEGIN:VEVENT
DTSTART;TZID=America/Chicago:20250108T080000
DTEND;TZID=America/Chicago:20250108T100000
DTSTAMP:20260425T104304
CREATED:20241231T233404Z
LAST-MODIFIED:20241231T233404Z
UID:2691-1736323200-1736330400@www.agingcareconnections.org
SUMMARY:Senior Walking Club
DESCRIPTION:Join us for fitness and fun! \nNo registration is required.
URL:https://www.agingcareconnections.org/event/senior-walking-club-13/
LOCATION:Summit Park District\, 5700 S. Archer Ave\, Summit\, IL\, United States
CATEGORIES:Fitness
ATTACH;FMTTYPE=image/jpeg:https://www.agingcareconnections.org/wp-content/uploads/2024/11/ACC-Senior-Walking-Club-Calendar-Image-1.jpg
END:VEVENT
BEGIN:VEVENT
DTSTART;TZID=America/Chicago:20250107T133000
DTEND;TZID=America/Chicago:20250107T150000
DTSTAMP:20260425T104304
CREATED:20250101T004628Z
LAST-MODIFIED:20250101T004628Z
UID:2739-1736256600-1736262000@www.agingcareconnections.org
SUMMARY:Alzheimer's and Other Dementia Support Group
DESCRIPTION:A support group for those who care for someone who has been diagnosed with Alzheimer’s disease or dementia. \nNo registration required.
URL:https://www.agingcareconnections.org/event/alzheimers-and-other-dementia-support-group-3/
LOCATION:Aging Care Connections\, 111 W. Harris Avenue\, La Grange\, IL\, 60525\, United States
CATEGORIES:Support Group
ATTACH;FMTTYPE=image/jpeg:https://www.agingcareconnections.org/wp-content/uploads/2024/11/ACC-Support-Group-Calendar-Image.jpg
END:VEVENT
BEGIN:VEVENT
DTSTART;TZID=America/Chicago:20250107T130500
DTEND;TZID=America/Chicago:20250107T140000
DTSTAMP:20260425T104304
CREATED:20250101T005540Z
LAST-MODIFIED:20250101T005540Z
UID:2743-1736255100-1736258400@www.agingcareconnections.org
SUMMARY:Chair Aerobics
DESCRIPTION:Start the new year right with some safe\, fun fitness! \nJoin in person or via Zoom. \nIn person: IMPULSE Rehab & Wellness \nVia Zoom: You will receive the Zoom link and login information via confirmation email upon registration. \nFor questions\, contact Barb Kohley at bkohley@agingcareconnections.org or call 708-603-2259. \nRegistration is required. \nTo register:
URL:https://www.agingcareconnections.org/event/chair-aerobics/
LOCATION:Impulse Rehab & Wellness\, 3075 S. Wolf Rd\, Westchester\, IL\, United States
CATEGORIES:Fitness,Health & Wellness
END:VEVENT
BEGIN:VEVENT
DTSTART;TZID=America/Chicago:20250106T080000
DTEND;TZID=America/Chicago:20250106T100000
DTSTAMP:20260425T104304
CREATED:20241231T233327Z
LAST-MODIFIED:20241231T233327Z
UID:2689-1736150400-1736157600@www.agingcareconnections.org
SUMMARY:Senior Walking Club
DESCRIPTION:Join us for fitness and fun! \nNo registration is required.
URL:https://www.agingcareconnections.org/event/senior-walking-club-12/
LOCATION:Summit Park District\, 5700 S. Archer Ave\, Summit\, IL\, United States
CATEGORIES:Fitness
ATTACH;FMTTYPE=image/jpeg:https://www.agingcareconnections.org/wp-content/uploads/2024/11/ACC-Senior-Walking-Club-2-Calendar-Image.jpg
END:VEVENT
BEGIN:VEVENT
DTSTART;TZID=America/Chicago:20250101T140000
DTEND;TZID=America/Chicago:20250101T153000
DTSTAMP:20260425T104304
CREATED:20250101T004503Z
LAST-MODIFIED:20250101T004503Z
UID:2737-1735740000-1735745400@www.agingcareconnections.org
SUMMARY:Caregiver Support Group
DESCRIPTION:The demands of caregiving can be tiring and time-consuming. Caring for yourself is critical. Led by aging care experts\, caregivers share stories\, exchange ideas and learn more about living with the disease and the resources available. \nNo registration required.
URL:https://www.agingcareconnections.org/event/caregiver-support-group-8/
LOCATION:Sharp Community Center\, 1609 N. 36th St.\, Melrose Park\, IL\, 60160\, United States
CATEGORIES:Support Group
ATTACH;FMTTYPE=image/jpeg:https://www.agingcareconnections.org/wp-content/uploads/2024/11/ACC-Caregiver-Support-Group-Calendar-Image.jpg
END:VEVENT
BEGIN:VEVENT
DTSTART;TZID=America/Chicago:20250101T080000
DTEND;TZID=America/Chicago:20250101T100000
DTSTAMP:20260425T104304
CREATED:20241231T233201Z
LAST-MODIFIED:20241231T233201Z
UID:2687-1735718400-1735725600@www.agingcareconnections.org
SUMMARY:Senior Walking Club
DESCRIPTION:Join us for fitness and fun! \nNo registration is required.
URL:https://www.agingcareconnections.org/event/senior-walking-club-11/
LOCATION:Summit Park District\, 5700 S. Archer Ave\, Summit\, IL\, United States
CATEGORIES:Fitness
ATTACH;FMTTYPE=image/jpeg:https://www.agingcareconnections.org/wp-content/uploads/2024/11/ACC-Senior-Walking-Club-Calendar-Image-1.jpg
END:VEVENT
BEGIN:VEVENT
DTSTART;VALUE=DATE:20241231
DTEND;VALUE=DATE:20250102
DTSTAMP:20260425T104304
CREATED:20241208T034741Z
LAST-MODIFIED:20241208T034741Z
UID:2537-1735603200-1735775999@www.agingcareconnections.org
SUMMARY:Aging Care Connections Closed
DESCRIPTION:
URL:https://www.agingcareconnections.org/event/aging-care-connections-closed-2/
LOCATION:IL
ATTACH;FMTTYPE=image/jpeg:https://www.agingcareconnections.org/wp-content/uploads/2024/12/ACC-Closed-for-New-Years-Calendar-Image.jpg
END:VEVENT
BEGIN:VEVENT
DTSTART;TZID=America/Chicago:20241230T080000
DTEND;TZID=America/Chicago:20241230T100000
DTSTAMP:20260425T104304
CREATED:20241208T033109Z
LAST-MODIFIED:20241208T033109Z
UID:2532-1735545600-1735552800@www.agingcareconnections.org
SUMMARY:Senior Walking Club
DESCRIPTION:Join us for fitness and fun! \nNo registration is required.
URL:https://www.agingcareconnections.org/event/senior-walking-club-10/
LOCATION:Summit Park District\, 5700 S. Archer Ave\, Summit\, IL\, United States
CATEGORIES:Fitness
ATTACH;FMTTYPE=image/jpeg:https://www.agingcareconnections.org/wp-content/uploads/2024/11/ACC-Senior-Walking-Club-Calendar-Image-1.jpg
END:VEVENT
BEGIN:VEVENT
DTSTART;TZID=America/Chicago:20241226T100000
DTEND;TZID=America/Chicago:20241226T113000
DTSTAMP:20260425T104304
CREATED:20241126T045231Z
LAST-MODIFIED:20241126T045231Z
UID:2393-1735207200-1735212600@www.agingcareconnections.org
SUMMARY:Grandparents Raising Grandchildren Support Group
DESCRIPTION:We provide support groups\, counseling\, education and resources to grandparents raising one or more of their grandchildren. \nNo registration required.
URL:https://www.agingcareconnections.org/event/grandparents-raising-grandchildren-support-group-2/
LOCATION:Summit Public Library\, 6233 S. Archer Rd.\, Summmit\, IL\, United States
CATEGORIES:Support Group
ATTACH;FMTTYPE=image/jpeg:https://www.agingcareconnections.org/wp-content/uploads/2024/11/ACC-Grandparents-Raising-Grandchildren-Support-Group-Calendar-Image.jpg
END:VEVENT
BEGIN:VEVENT
DTSTART;VALUE=DATE:20241224
DTEND;VALUE=DATE:20241226
DTSTAMP:20260425T104304
CREATED:20241208T034006Z
LAST-MODIFIED:20241208T034006Z
UID:2534-1734998400-1735171199@www.agingcareconnections.org
SUMMARY:Aging Care Connections Closed
DESCRIPTION:
URL:https://www.agingcareconnections.org/event/aging-care-connections-closed/
LOCATION:IL
ATTACH;FMTTYPE=image/jpeg:https://www.agingcareconnections.org/wp-content/uploads/2024/12/ACC-Closed-for-Christmas-Calendar-Image.jpg
END:VEVENT
BEGIN:VEVENT
DTSTART;TZID=America/Chicago:20241223T080000
DTEND;TZID=America/Chicago:20241223T100000
DTSTAMP:20260425T104304
CREATED:20241208T032939Z
LAST-MODIFIED:20241208T032939Z
UID:2530-1734940800-1734948000@www.agingcareconnections.org
SUMMARY:Senior Walking Club
DESCRIPTION:Join us for fitness and fun! \nNo registration is required.
URL:https://www.agingcareconnections.org/event/senior-walking-club-9/
LOCATION:Summit Park District\, 5700 S. Archer Ave\, Summit\, IL\, United States
CATEGORIES:Fitness
ATTACH;FMTTYPE=image/jpeg:https://www.agingcareconnections.org/wp-content/uploads/2024/11/ACC-Senior-Walking-Club-2-Calendar-Image.jpg
END:VEVENT
BEGIN:VEVENT
DTSTART;TZID=America/Chicago:20241219T133000
DTEND;TZID=America/Chicago:20241219T153000
DTSTAMP:20260425T104304
CREATED:20241208T032807Z
LAST-MODIFIED:20241208T053145Z
UID:2525-1734615000-1734622200@www.agingcareconnections.org
SUMMARY:Holiday Party
DESCRIPTION:Come one\, Come all to a jolly time of Ugly Xmas Sweaters\, Hot Chocolate Bar\, Holiday sing along and of course\, lunch.  There’ll be raffle prizes and gift cards to win. \nFor questions\, contact Barb Kohley at bkohley@agingcareconnections.org or 708-603-2259. \nRegistration is required. \nTo register: \n                \n                        \n                            Holiday Party\n                            Workshop Registration \n                        \n                        Name(Required)\n                            \n                            \n                                                    \n                                                    First\n                                                \n                            \n                            \n                                                    \n                                                    Last\n                                                \n                            \n                        Email(Required)\n                            \n                        Phone(Required)Number attending(Required)1234
URL:https://www.agingcareconnections.org/event/holiday-party/
LOCATION:Indian Head Park Village Hall\, 201 Acacia Drive\, Indian Head Park\, IL\, 60525\, United States
CATEGORIES:Holiday Event,Social
ATTACH;FMTTYPE=image/jpeg:https://www.agingcareconnections.org/wp-content/uploads/2024/12/ACC-Holiday-Party-Calendar-Image.jpg
END:VEVENT
BEGIN:VEVENT
DTSTART;TZID=America/Chicago:20241218T133000
DTEND;TZID=America/Chicago:20241218T143000
DTSTAMP:20260425T104304
CREATED:20241208T031940Z
LAST-MODIFIED:20241208T052912Z
UID:2522-1734528600-1734532200@www.agingcareconnections.org
SUMMARY:Qi Gong
DESCRIPTION:Qi Gong is an ancient practice involving coordinated body movements\, breathing\, and meditation to enhance health and spirituality. Originating from Chinese medicine\, philosophy\, and martial arts\, it aims to balance and cultivate “Qi\,” or life energy. \nFor questions\, contact Barb Kohley at bkohley@agingcareconnections.org or call 708-603-2259. \nRegistration is required. \nTo register:
URL:https://www.agingcareconnections.org/event/qi-gong-3/
LOCATION:Aging Care Connections\, 111 W. Harris Avenue\, La Grange\, IL\, 60525\, United States
CATEGORIES:Fitness,Health & Wellness
ATTACH;FMTTYPE=image/jpeg:https://www.agingcareconnections.org/wp-content/uploads/2024/11/ACC-Qi-Gong-Calendar-Image.jpg
END:VEVENT
BEGIN:VEVENT
DTSTART;TZID=America/Chicago:20241218T123000
DTEND;TZID=America/Chicago:20241218T133000
DTSTAMP:20260425T104304
CREATED:20241208T031328Z
LAST-MODIFIED:20241208T053526Z
UID:2517-1734525000-1734528600@www.agingcareconnections.org
SUMMARY:Chair Yoga - Bridgeview
DESCRIPTION:Yoga is not only good for the body\, but good for the mind and soul\, as well. Take a break from your busy holiday schedule and join us. \nFor questions\, contact Brisa Arteaga at barteaga@agingcareconnections.org  or call 708-603-2277. \nRegistration is required. \nTo register:
URL:https://www.agingcareconnections.org/event/chair-yoga-bridgeview/
LOCATION:Bridgeview Park District\, 8100 Beloit Ave.\, Bridgeview\, IL\, United States
CATEGORIES:Fitness,Health & Wellness
ATTACH;FMTTYPE=image/jpeg:https://www.agingcareconnections.org/wp-content/uploads/2024/12/ACC-Chair-Yoga-Justice-Calendar-Image.jpg
END:VEVENT
BEGIN:VEVENT
DTSTART;TZID=America/Chicago:20241218T111500
DTEND;TZID=America/Chicago:20241218T121500
DTSTAMP:20260425T104304
CREATED:20241208T030501Z
LAST-MODIFIED:20241208T030528Z
UID:2512-1734520500-1734524100@www.agingcareconnections.org
SUMMARY:Chair Yoga - Summit
DESCRIPTION:Yoga is not only good for the body\, but good for the mind and soul\, as well. Take a break from your busy holiday schedule and join us. \nFor questions\, contact Adriana Garcia at Agarcia@agingcareconnections.org  or call 708-603-2328. \nRegistration is required. \nTo register:
URL:https://www.agingcareconnections.org/event/chair-yoga-4/
LOCATION:Summit Public Library\, 6233 S. Archer Rd.\, Summmit\, IL\, United States
CATEGORIES:Fitness,Health & Wellness
ATTACH;FMTTYPE=image/jpeg:https://www.agingcareconnections.org/wp-content/uploads/2024/11/ACC-Chair-Yoga-Calendar-Image.jpg
END:VEVENT
BEGIN:VEVENT
DTSTART;TZID=America/Chicago:20241218T101500
DTEND;TZID=America/Chicago:20241218T110000
DTSTAMP:20260425T104304
CREATED:20241208T025843Z
LAST-MODIFIED:20241208T030616Z
UID:2505-1734516900-1734519600@www.agingcareconnections.org
SUMMARY:Chair Yoga - Justice
DESCRIPTION:Yoga is not only good for the body\, but good for the mind and soul\, as well. Take a break from your busy holiday schedule and join us. \nFor questions\, contact Brisa Arteaga barteaga@agingcareconnections.org  or call 708-603-2277. \nRegistration is required. \nTo register:
URL:https://www.agingcareconnections.org/event/chair-yoga-3/
LOCATION:Justice Park District\, 7747 Oak Grove Ave.\, Justice\, 60458\, United States
CATEGORIES:Fitness,Health & Wellness
ATTACH;FMTTYPE=image/jpeg:https://www.agingcareconnections.org/wp-content/uploads/2024/12/ACC-Chair-Yoga-Justice-Calendar-Image.jpg
END:VEVENT
BEGIN:VEVENT
DTSTART;TZID=America/Chicago:20241218T100000
DTEND;TZID=America/Chicago:20241218T113000
DTSTAMP:20260425T104304
CREATED:20241126T043409Z
LAST-MODIFIED:20241126T043409Z
UID:2384-1734516000-1734521400@www.agingcareconnections.org
SUMMARY:Caregiver Support Group
DESCRIPTION:The needs and demands of someone with dementia can be tiring and time-consuming. Caring for yourself is just as important. Led by aging care experts\, caregivers share stories\, exchange ideas and learn more about living with the disease and the resources available. \nNo registration required.
URL:https://www.agingcareconnections.org/event/caregiver-support-group-3/
LOCATION:Aging Care Connections\, 111 W. Harris Avenue\, La Grange\, IL\, 60525\, United States
CATEGORIES:Support Group
ATTACH;FMTTYPE=image/jpeg:https://www.agingcareconnections.org/wp-content/uploads/2024/11/ACC-Caregiver-Support-Group-Calendar-Image.jpg
END:VEVENT
BEGIN:VEVENT
DTSTART;TZID=America/Chicago:20241218T080000
DTEND;TZID=America/Chicago:20241218T100000
DTSTAMP:20260425T104304
CREATED:20241208T024529Z
LAST-MODIFIED:20241208T024529Z
UID:2503-1734508800-1734516000@www.agingcareconnections.org
SUMMARY:Senior Walking Club
DESCRIPTION:Join us for fitness and fun! \nNo registration is required.
URL:https://www.agingcareconnections.org/event/senior-walking-club-8/
LOCATION:Summit Park District\, 5700 S. Archer Ave\, Summit\, IL\, United States
CATEGORIES:Fitness
ATTACH;FMTTYPE=image/jpeg:https://www.agingcareconnections.org/wp-content/uploads/2024/11/ACC-Senior-Walking-Club-2-Calendar-Image.jpg
END:VEVENT
BEGIN:VEVENT
DTSTART;TZID=America/Chicago:20241217T173000
DTEND;TZID=America/Chicago:20241217T190000
DTSTAMP:20260425T104304
CREATED:20241126T045105Z
LAST-MODIFIED:20241126T045105Z
UID:2390-1734456600-1734462000@www.agingcareconnections.org
SUMMARY:Grandparents Raising Grandchildren Support Group
DESCRIPTION:We provide support groups\, counseling\, education and resources to grandparents raising one or more of their grandchildren. \nNo registration required.
URL:https://www.agingcareconnections.org/event/grandparents-raising-grandchildren-support-group/
LOCATION:Sharp Community Center\, 1609 N. 36th St.\, Melrose Park\, IL\, 60160\, United States
CATEGORIES:Support Group
ATTACH;FMTTYPE=image/jpeg:https://www.agingcareconnections.org/wp-content/uploads/2024/11/ACC-Grandparents-Raising-Grandchildren-Support-Group-Calendar-Image.jpg
END:VEVENT
BEGIN:VEVENT
DTSTART;TZID=America/Chicago:20241217T133000
DTEND;TZID=America/Chicago:20241217T150000
DTSTAMP:20260425T104304
CREATED:20241126T042838Z
LAST-MODIFIED:20241126T042838Z
UID:2378-1734442200-1734447600@www.agingcareconnections.org
SUMMARY:Caregiver Support Group
DESCRIPTION:The needs and demands of someone with dementia can be tiring and time-consuming. Caring for yourself is just as important. Led by aging care experts\, caregivers share stories\, exchange ideas and learn more about living with the disease and the resources available. \nNo registration required.
URL:https://www.agingcareconnections.org/event/caregiver-support-group/
LOCATION:Aging Care Connections\, 111 W. Harris Avenue\, La Grange\, IL\, 60525\, United States
CATEGORIES:Support Group
ATTACH;FMTTYPE=image/jpeg:https://www.agingcareconnections.org/wp-content/uploads/2024/11/ACC-Caregiver-Support-Group-Calendar-Image.jpg
END:VEVENT
BEGIN:VEVENT
DTSTART;TZID=America/Chicago:20241217T130500
DTEND;TZID=America/Chicago:20241217T140000
DTSTAMP:20260425T104304
CREATED:20241208T024221Z
LAST-MODIFIED:20250301T045216Z
UID:2457-1734440700-1734444000@www.agingcareconnections.org
SUMMARY:Balance & Strength
DESCRIPTION:You can attend in person or via Zoom. \nSupplies needed: Light hand weights or water bottles for a challenge. A sturdy chair with no arm rest and no wheels. Please make sure your chair is on a flat and stable surface\, and there is space around you for the exercises. \nInstructor:  Beth Gorman\, Co-Owner and MSPT from Impulse Rehab and Wellness \nRegistration for in.-person attendance is required. \nFor questions\, contact Barb Kohley\, bkohley@agingcareconnections.org or call 708-603-2269. \nRegistration for in-person attendance is required. \nTo register: \n                \n                        \n                            Balance and Strength\n                            Workshop Registration \n                        \n                        Name(Required)\n                            \n                            \n                                                    \n                                                    First\n                                                \n                            \n                            \n                                                    \n                                                    Last\n                                                \n                            \n                        Email(Required)\n                            \n                        Phone(Required)Number attending(Required)1234Consent(Required) I agree to the waiver and photo release.Read our waiver and photo release statement here.
URL:https://www.agingcareconnections.org/event/balance-strength/
LOCATION:Impulse Rehab & Wellness\, 3075 S. Wolf Rd\, Westchester\, IL\, United States
CATEGORIES:Fitness
ATTACH;FMTTYPE=image/jpeg:https://www.agingcareconnections.org/wp-content/uploads/2024/12/ACC-Balance-and-Strength-Calendar-Image.jpg
END:VEVENT
BEGIN:VEVENT
DTSTART;TZID=America/Chicago:20241217T103000
DTEND;TZID=America/Chicago:20241217T113000
DTSTAMP:20260425T104304
CREATED:20241205T192344Z
LAST-MODIFIED:20241205T192344Z
UID:2452-1734431400-1734435000@www.agingcareconnections.org
SUMMARY:Summit Book Club (in Spanish)
DESCRIPTION:Padre Rico\, Padre Pobre de Robert T. Kiyosaki \nPara preguntas\, contacte Adriana Garcia\, o llamar al 708-603-2328. \nEs necesario registrarse. \nPara registrarse:
URL:https://www.agingcareconnections.org/event/summit-book-club-in-spanish/
LOCATION:Summit Public Library\, 6233 S. Archer Rd.\, Summmit\, IL\, United States
CATEGORIES:Book Club
ATTACH;FMTTYPE=image/jpeg:https://www.agingcareconnections.org/wp-content/uploads/2024/12/Copy-of-ACC-Summit-Book-Club-Spanish-Calendar-Image.jpg
END:VEVENT
END:VCALENDAR