BEGIN:VCALENDAR
VERSION:2.0
PRODID:-//Aging Care Connections - ECPv6.15.20//NONSGML v1.0//EN
CALSCALE:GREGORIAN
METHOD:PUBLISH
X-ORIGINAL-URL:https://www.agingcareconnections.org
X-WR-CALDESC:Events for Aging Care Connections
REFRESH-INTERVAL;VALUE=DURATION:PT1H
X-Robots-Tag:noindex
X-PUBLISHED-TTL:PT1H
BEGIN:VTIMEZONE
TZID:America/Chicago
BEGIN:DAYLIGHT
TZOFFSETFROM:-0600
TZOFFSETTO:-0500
TZNAME:CDT
DTSTART:20250309T080000
END:DAYLIGHT
BEGIN:STANDARD
TZOFFSETFROM:-0500
TZOFFSETTO:-0600
TZNAME:CST
DTSTART:20251102T070000
END:STANDARD
BEGIN:DAYLIGHT
TZOFFSETFROM:-0600
TZOFFSETTO:-0500
TZNAME:CDT
DTSTART:20260308T080000
END:DAYLIGHT
BEGIN:STANDARD
TZOFFSETFROM:-0500
TZOFFSETTO:-0600
TZNAME:CST
DTSTART:20261101T070000
END:STANDARD
BEGIN:DAYLIGHT
TZOFFSETFROM:-0600
TZOFFSETTO:-0500
TZNAME:CDT
DTSTART:20270314T080000
END:DAYLIGHT
BEGIN:STANDARD
TZOFFSETFROM:-0500
TZOFFSETTO:-0600
TZNAME:CST
DTSTART:20271107T070000
END:STANDARD
END:VTIMEZONE
BEGIN:VEVENT
DTSTART;TZID=America/Chicago:20261003T180000
DTEND;TZID=America/Chicago:20261003T220000
DTSTAMP:20260421T115858
CREATED:20260301T051700Z
LAST-MODIFIED:20260301T051700Z
UID:5278-1791050400-1791064800@www.agingcareconnections.org
SUMMARY:Sports Ball 2025
DESCRIPTION:Mark Your Calendars! Aging Care Connections’ 25th Annual Sports Ball will be here before you know it. \nPut on your favorite team’s jersey and join us for the best\, most fun-filled fundraising event of the year! \n \nTo learn more about Sports Ball 2025\, contact:\nJan Walch: 708-603-2243 or jwalch@agingcareconnections.org\nor Kevin Kumar: 708-603-2342 or kkumar@agingcareconnections.org.
URL:https://www.agingcareconnections.org/event/sports-ball-2025-2/
LOCATION:Elmcrest Banquets & Catering\, 7370 W. Grand Ave\, Elmwood Park\, IL\, United States
CATEGORIES:Featured,Food,Fundraiser,Games,Social
ATTACH;FMTTYPE=image/jpeg:https://www.agingcareconnections.org/wp-content/uploads/2026/02/ACC-Sports-Ball-2026-Save-the-Date-8.5-x-5.5-in.jpg
END:VEVENT
END:VCALENDAR