BEGIN:VCALENDAR
VERSION:2.0
PRODID:-//Aging Care Connections - ECPv6.15.20//NONSGML v1.0//EN
CALSCALE:GREGORIAN
METHOD:PUBLISH
X-WR-CALNAME:Aging Care Connections
X-ORIGINAL-URL:https://www.agingcareconnections.org
X-WR-CALDESC:Events for Aging Care Connections
REFRESH-INTERVAL;VALUE=DURATION:PT1H
X-Robots-Tag:noindex
X-PUBLISHED-TTL:PT1H
BEGIN:VTIMEZONE
TZID:America/Chicago
BEGIN:DAYLIGHT
TZOFFSETFROM:-0600
TZOFFSETTO:-0500
TZNAME:CDT
DTSTART:20240310T080000
END:DAYLIGHT
BEGIN:STANDARD
TZOFFSETFROM:-0500
TZOFFSETTO:-0600
TZNAME:CST
DTSTART:20241103T070000
END:STANDARD
BEGIN:DAYLIGHT
TZOFFSETFROM:-0600
TZOFFSETTO:-0500
TZNAME:CDT
DTSTART:20250309T080000
END:DAYLIGHT
BEGIN:STANDARD
TZOFFSETFROM:-0500
TZOFFSETTO:-0600
TZNAME:CST
DTSTART:20251102T070000
END:STANDARD
BEGIN:DAYLIGHT
TZOFFSETFROM:-0600
TZOFFSETTO:-0500
TZNAME:CDT
DTSTART:20260308T080000
END:DAYLIGHT
BEGIN:STANDARD
TZOFFSETFROM:-0500
TZOFFSETTO:-0600
TZNAME:CST
DTSTART:20261101T070000
END:STANDARD
END:VTIMEZONE
BEGIN:VEVENT
DTSTART;TZID=America/Chicago:20250409T100000
DTEND;TZID=America/Chicago:20250409T113000
DTSTAMP:20260423T180449
CREATED:20250331T233930Z
LAST-MODIFIED:20250331T233930Z
UID:3199-1744192800-1744198200@www.agingcareconnections.org
SUMMARY:Technology Workshop - Bellwood
DESCRIPTION:New class! Only 10 seats – register now! \nLearn the basics of technology using an iPad that we provide.  Connect with technology unafraid and stay connected with loved ones! This is a five-week course; come for just one or all five sessions. \nQuestions? Call 708-603-2277. \nRegistration is required. Seating is limited to the first 10 registrants. \nTo register:
URL:https://www.agingcareconnections.org/event/technology-workshop-bellwood-2/
LOCATION:West Suburban Senior Services\, 439 Bohland Ave\, Bellwood\, Illinois
CATEGORIES:Lifelong Learning,Technology
ATTACH;FMTTYPE=image/jpeg:https://www.agingcareconnections.org/wp-content/uploads/2025/03/ACC-Computer-Class-Calendar-Image-2.jpg
END:VEVENT
BEGIN:VEVENT
DTSTART;TZID=America/Chicago:20250402T100000
DTEND;TZID=America/Chicago:20250402T113000
DTSTAMP:20260423T180449
CREATED:20250331T231101Z
LAST-MODIFIED:20250331T234156Z
UID:3177-1743588000-1743593400@www.agingcareconnections.org
SUMMARY:Technology Workshop - Bellwood
DESCRIPTION:New class! Only 10 seats – register now! \nLearn the basics of technology using an iPad that we provide.  Connect with technology unafraid and stay connected with loved ones! This is a five-week course; come for just one or all five sessions. \nQuestions? Call 708-603-2277. \nRegistration is required. Seating is limited to the first 10 registrants. \nTo register:
URL:https://www.agingcareconnections.org/event/technology-workshop-bellwood/
LOCATION:West Suburban Senior Services\, 439 Bohland Ave\, Bellwood\, Illinois
CATEGORIES:Lifelong Learning,Technology
ATTACH;FMTTYPE=image/jpeg:https://www.agingcareconnections.org/wp-content/uploads/2025/03/ACC-Computer-Class-Calendar-Image-2.jpg
END:VEVENT
BEGIN:VEVENT
DTSTART;TZID=America/Chicago:20250319T100000
DTEND;TZID=America/Chicago:20250319T113000
DTSTAMP:20260423T180449
CREATED:20250304T040405Z
LAST-MODIFIED:20250306T190256Z
UID:2985-1742378400-1742383800@www.agingcareconnections.org
SUMMARY:Computers & Phones Made Easy - Bellwood
DESCRIPTION:New class! Only 10 seats – register now! \nLearn the basics of computers and cell phones. Connect with technology unafraid and stay connected with loved ones! This is a five-week course; come for just one or all five sessions. \nQuestions? Call 708-603-2277. \nRegistration is required. Seating is limited to the first 10 registrants. \nTo register: \n\n                \n                        \n                            Computers & Phones Made Easy\n                            Workshop Registration \n                        \n                        Name(Required)\n                            \n                            \n                                                    \n                                                    First\n                                                \n                            \n                            \n                                                    \n                                                    Last\n                                                \n                            \n                        Email(Required)\n                            \n                        Phone(Required)Number attending(Required)1234
URL:https://www.agingcareconnections.org/event/computers-phones-made-easy/
LOCATION:West Suburban Senior Services\, 439 Bohland Ave\, Bellwood\, Illinois
CATEGORIES:Lifelong Learning,Technology
ATTACH;FMTTYPE=image/jpeg:https://www.agingcareconnections.org/wp-content/uploads/2025/03/ACC-Computer-Class-Calendar-Image.jpg
END:VEVENT
END:VCALENDAR