BEGIN:VCALENDAR
VERSION:2.0
PRODID:-//Aging Care Connections - ECPv6.15.20//NONSGML v1.0//EN
CALSCALE:GREGORIAN
METHOD:PUBLISH
X-ORIGINAL-URL:https://www.agingcareconnections.org
X-WR-CALDESC:Events for Aging Care Connections
REFRESH-INTERVAL;VALUE=DURATION:PT1H
X-Robots-Tag:noindex
X-PUBLISHED-TTL:PT1H
BEGIN:VTIMEZONE
TZID:America/Chicago
BEGIN:DAYLIGHT
TZOFFSETFROM:-0600
TZOFFSETTO:-0500
TZNAME:CDT
DTSTART:20240310T080000
END:DAYLIGHT
BEGIN:STANDARD
TZOFFSETFROM:-0500
TZOFFSETTO:-0600
TZNAME:CST
DTSTART:20241103T070000
END:STANDARD
BEGIN:DAYLIGHT
TZOFFSETFROM:-0600
TZOFFSETTO:-0500
TZNAME:CDT
DTSTART:20250309T080000
END:DAYLIGHT
BEGIN:STANDARD
TZOFFSETFROM:-0500
TZOFFSETTO:-0600
TZNAME:CST
DTSTART:20251102T070000
END:STANDARD
BEGIN:DAYLIGHT
TZOFFSETFROM:-0600
TZOFFSETTO:-0500
TZNAME:CDT
DTSTART:20260308T080000
END:DAYLIGHT
BEGIN:STANDARD
TZOFFSETFROM:-0500
TZOFFSETTO:-0600
TZNAME:CST
DTSTART:20261101T070000
END:STANDARD
END:VTIMEZONE
BEGIN:VEVENT
DTSTART;TZID=America/Chicago:20250625T130000
DTEND;TZID=America/Chicago:20250625T150000
DTSTAMP:20260423T163744
CREATED:20250601T111600Z
LAST-MODIFIED:20250601T111600Z
UID:3598-1750856400-1750863600@www.agingcareconnections.org
SUMMARY:Technology Workshop - Norridge
DESCRIPTION:New class! Only 10 seats – register now! \nLearn the basics of technology using an iPad that we provide.  Connect with technology unafraid and stay connected with loved ones! This is a five-week course; come for just one or all five sessions. \nQuestions? Call 708-603-2277 or email awn@agingcareconnections.org. \nRegistration is required. Seating is limited to the first 10 registrants. \nTo register: \n\n                \n                        \n                            Technology Workshop 6.25\n                            Workshop Registration \n                        \n                        Name(Required)\n                            \n                            \n                                                    \n                                                    First\n                                                \n                            \n                            \n                                                    \n                                                    Last\n                                                \n                            \n                        Email(Required)\n                            \n                        Phone(Required)Number attending(Required)1234
URL:https://www.agingcareconnections.org/event/technology-workshop-norridge-5/
LOCATION:SAC – Seniors Assistance Center\, 7774 W. Irving Park Road\, Norridge\, 60706
CATEGORIES:Lifelong Learning,Technology
ATTACH;FMTTYPE=image/jpeg:https://www.agingcareconnections.org/wp-content/uploads/2025/03/ACC-Computer-Class-Calendar-Image-2.jpg
END:VEVENT
BEGIN:VEVENT
DTSTART;TZID=America/Chicago:20250618T130000
DTEND;TZID=America/Chicago:20250618T150000
DTSTAMP:20260423T163744
CREATED:20250601T110315Z
LAST-MODIFIED:20250601T110315Z
UID:3586-1750251600-1750258800@www.agingcareconnections.org
SUMMARY:Technology Workshop - Norridge
DESCRIPTION:New class! Only 10 seats – register now! \nLearn the basics of technology using an iPad that we provide.  Connect with technology unafraid and stay connected with loved ones! This is a five-week course; come for just one or all five sessions. \nQuestions? Call 708-603-2277 or email awn@agingcareconnections.org. \nRegistration is required. Seating is limited to the first 10 registrants. \nTo register:
URL:https://www.agingcareconnections.org/event/technology-workshop-norridge-4/
LOCATION:SAC – Seniors Assistance Center\, 7774 W. Irving Park Road\, Norridge\, 60706
CATEGORIES:Lifelong Learning,Technology
ATTACH;FMTTYPE=image/jpeg:https://www.agingcareconnections.org/wp-content/uploads/2025/03/ACC-Computer-Class-Calendar-Image-2.jpg
END:VEVENT
BEGIN:VEVENT
DTSTART;TZID=America/Chicago:20250611T130000
DTEND;TZID=America/Chicago:20250611T150000
DTSTAMP:20260423T163744
CREATED:20250601T103459Z
LAST-MODIFIED:20250601T103459Z
UID:3564-1749646800-1749654000@www.agingcareconnections.org
SUMMARY:Technology Workshop - Norridge
DESCRIPTION:New class! Only 10 seats – register now! \nLearn the basics of technology using an iPad that we provide.  Connect with technology unafraid and stay connected with loved ones! This is a five-week course; come for just one or all five sessions. \nQuestions? Call 708-603-2277 or email awn@agingcareconnections.org. \nRegistration is required. Seating is limited to the first 10 registrants. \nTo register:
URL:https://www.agingcareconnections.org/event/technology-workshop-norridge-3/
LOCATION:Senior Assistance Center\, 7774 W. Irving Park Rd.\, Norridge\, Illinois\, 60706
CATEGORIES:Lifelong Learning,Technology
ATTACH;FMTTYPE=image/jpeg:https://www.agingcareconnections.org/wp-content/uploads/2025/03/ACC-Computer-Class-Calendar-Image-2.jpg
END:VEVENT
BEGIN:VEVENT
DTSTART;TZID=America/Chicago:20250609T103000
DTEND;TZID=America/Chicago:20250609T123000
DTSTAMP:20260423T163744
CREATED:20250601T102605Z
LAST-MODIFIED:20250601T103549Z
UID:3556-1749465000-1749472200@www.agingcareconnections.org
SUMMARY:Intro to QR Codes\, Scams and Robocalls - Brookfield
DESCRIPTION:Lunch Provided! \nTo register: Call 708-485-2000 or email info@hitzemanfuneral.com.
URL:https://www.agingcareconnections.org/event/intro-to-qr-codes-scams-and-robocalls/
LOCATION:Linda Sokol Francis Brookfield Library\, 3541 Park Ave\, Brookfield\, Illinois
CATEGORIES:Food,Lifelong Learning,Technology
END:VEVENT
BEGIN:VEVENT
DTSTART;TZID=America/Chicago:20250604T130000
DTEND;TZID=America/Chicago:20250604T150000
DTSTAMP:20260423T163744
CREATED:20250601T102126Z
LAST-MODIFIED:20250601T102126Z
UID:3553-1749042000-1749049200@www.agingcareconnections.org
SUMMARY:Technology Workshop - Norridge
DESCRIPTION:New class! Only 10 seats – register now! \nLearn the basics of technology using an iPad that we provide.  Connect with technology unafraid and stay connected with loved ones! This is a five-week course; come for just one or all five sessions. \nQuestions? Call 708-603-2277 or email awn@agingcareconnections.org. \nRegistration is required. Seating is limited to the first 10 registrants. \nTo register: \n                \n                        \n                            Technology Workshop 6.4\n                            Workshop Registration \n                        \n                        Name(Required)\n                            \n                            \n                                                    \n                                                    First\n                                                \n                            \n                            \n                                                    \n                                                    Last\n                                                \n                            \n                        Email(Required)\n                            \n                        Phone(Required)Number attending(Required)1234
URL:https://www.agingcareconnections.org/event/technology-workshop-norridge-2/
LOCATION:Senior Assistance Center\, 7774 W. Irving Park Rd.\, Norridge\, Illinois\, 60706
CATEGORIES:Lifelong Learning,Technology
ATTACH;FMTTYPE=image/jpeg:https://www.agingcareconnections.org/wp-content/uploads/2025/03/ACC-Computer-Class-Calendar-Image-2.jpg
END:VEVENT
BEGIN:VEVENT
DTSTART;TZID=America/Chicago:20250528T130000
DTEND;TZID=America/Chicago:20250528T150000
DTSTAMP:20260423T163744
CREATED:20250430T040521Z
LAST-MODIFIED:20250430T040955Z
UID:3426-1748437200-1748444400@www.agingcareconnections.org
SUMMARY:Technology Workshop - Norridge
DESCRIPTION:New class! Only 10 seats – register now! \nLearn the basics of technology using an iPad that we provide.  Connect with technology unafraid and stay connected with loved ones! This is a five-week course; come for just one or all five sessions. \nQuestions? Call 708-603-2277 or email awn@agingcareconnections.org. \nRegistration is required. Seating is limited to the first 10 registrants. \nTo register:
URL:https://www.agingcareconnections.org/event/technology-workshop-norridge/
LOCATION:Senior Assistance Center\, 7774 W. Irving Park Rd.\, Norridge\, Illinois\, 60706
CATEGORIES:Lifelong Learning,Technology
ATTACH;FMTTYPE=image/jpeg:https://www.agingcareconnections.org/wp-content/uploads/2025/03/ACC-Computer-Class-Calendar-Image-2.jpg
END:VEVENT
BEGIN:VEVENT
DTSTART;TZID=America/Chicago:20250519T110000
DTEND;TZID=America/Chicago:20250519T123000
DTSTAMP:20260423T163744
CREATED:20250430T031726Z
LAST-MODIFIED:20250430T031726Z
UID:3396-1747652400-1747657800@www.agingcareconnections.org
SUMMARY:Technology Workshop - Franklin Park
DESCRIPTION:New class! Only 10 seats – register now! \nLearn the basics of technology using an iPad that we provide.  Connect with technology unafraid and stay connected with loved ones! This is a five-week course; come for just one or all five sessions. \nQuestions? Call 708-603-2277 or email awn@agingcareconnections.org. \nRegistration is required. Seating is limited to the first 10 registrants. \nTo register:
URL:https://www.agingcareconnections.org/event/technology-workshop-franklin-park-5/
LOCATION:Carl Fiorito Senior Center\, 2601 N. Mannheim Road\, Franklin Park\, IL\, United States
CATEGORIES:Lifelong Learning,Technology
ATTACH;FMTTYPE=image/jpeg:https://www.agingcareconnections.org/wp-content/uploads/2025/03/ACC-Computer-Class-Calendar-Image-2.jpg
END:VEVENT
BEGIN:VEVENT
DTSTART;TZID=America/Chicago:20250512T110000
DTEND;TZID=America/Chicago:20250512T123000
DTSTAMP:20260423T163744
CREATED:20250429T031950Z
LAST-MODIFIED:20250429T031950Z
UID:3369-1747047600-1747053000@www.agingcareconnections.org
SUMMARY:Technology Workshop - Franklin Park
DESCRIPTION:New class! Only 10 seats – register now! \nLearn the basics of technology using an iPad that we provide.  Connect with technology unafraid and stay connected with loved ones! This is a five-week course; come for just one or all five sessions. \nQuestions? Call 708-603-2277. \nRegistration is required. Seating is limited to the first 10 registrants. \nTo register:
URL:https://www.agingcareconnections.org/event/technology-workshop-franklin-park-4/
LOCATION:Carl Fiorito Senior Center\, 2601 N. Mannheim Road\, Franklin Park\, IL\, United States
CATEGORIES:Lifelong Learning,Technology
ATTACH;FMTTYPE=image/jpeg:https://www.agingcareconnections.org/wp-content/uploads/2025/03/ACC-Computer-Class-Calendar-Image-2.jpg
END:VEVENT
BEGIN:VEVENT
DTSTART;TZID=America/Chicago:20250505T110000
DTEND;TZID=America/Chicago:20250505T123000
DTSTAMP:20260423T163744
CREATED:20250429T023550Z
LAST-MODIFIED:20250429T023550Z
UID:3344-1746442800-1746448200@www.agingcareconnections.org
SUMMARY:Technology Workshop - Franklin Park
DESCRIPTION:New class! Only 10 seats – register now! \nLearn the basics of technology using an iPad that we provide.  Connect with technology unafraid and stay connected with loved ones! This is a five-week course; come for just one or all five sessions. \nQuestions? Call 708-603-2277. \nRegistration is required. Seating is limited to the first 10 registrants. \nTo register:
URL:https://www.agingcareconnections.org/event/technology-workshop-franklin-park-3/
LOCATION:Carl Fiorito Senior Center\, 2601 N. Mannheim Road\, Franklin Park\, IL\, United States
CATEGORIES:Lifelong Learning,Technology
ATTACH;FMTTYPE=image/jpeg:https://www.agingcareconnections.org/wp-content/uploads/2025/03/ACC-Computer-Class-Calendar-Image-2.jpg
END:VEVENT
BEGIN:VEVENT
DTSTART;TZID=America/Chicago:20250428T110000
DTEND;TZID=America/Chicago:20250428T123000
DTSTAMP:20260423T163744
CREATED:20250401T032535Z
LAST-MODIFIED:20250401T032535Z
UID:3258-1745838000-1745843400@www.agingcareconnections.org
SUMMARY:Technology Workshop - Franklin Park
DESCRIPTION:New class! Only 10 seats – register now! \nLearn the basics of technology using an iPad that we provide.  Connect with technology unafraid and stay connected with loved ones! This is a five-week course; come for just one or all five sessions. \nQuestions? Call 708-603-2277. \nRegistration is required. Seating is limited to the first 10 registrants. \nTo register:
URL:https://www.agingcareconnections.org/event/technology-workshop-franklin-park-2/
LOCATION:Carl Fiorito Senior Center\, 2601 N. Mannheim Road\, Franklin Park\, IL\, United States
CATEGORIES:Lifelong Learning,Technology
ATTACH;FMTTYPE=image/jpeg:https://www.agingcareconnections.org/wp-content/uploads/2025/03/ACC-Computer-Class-Calendar-Image-2.jpg
END:VEVENT
BEGIN:VEVENT
DTSTART;TZID=America/Chicago:20250421T110000
DTEND;TZID=America/Chicago:20250421T123000
DTSTAMP:20260423T163744
CREATED:20250401T023755Z
LAST-MODIFIED:20250401T023755Z
UID:3234-1745233200-1745238600@www.agingcareconnections.org
SUMMARY:Technology Workshop - Franklin Park
DESCRIPTION:New class! Only 10 seats – register now! \nLearn the basics of technology using an iPad that we provide.  Connect with technology unafraid and stay connected with loved ones! This is a five-week course; come for just one or all five sessions. \nQuestions? Call 708-603-2277. \nRegistration is required. Seating is limited to the first 10 registrants. \nTo register:
URL:https://www.agingcareconnections.org/event/technology-workshop-franklin-park/
LOCATION:Carl Fiorito Senior Center\, 2601 N. Mannheim Road\, Franklin Park\, IL\, United States
CATEGORIES:Lifelong Learning,Technology
ATTACH;FMTTYPE=image/jpeg:https://www.agingcareconnections.org/wp-content/uploads/2025/03/ACC-Computer-Class-Calendar-Image-2.jpg
END:VEVENT
BEGIN:VEVENT
DTSTART;TZID=America/Chicago:20250416T100000
DTEND;TZID=America/Chicago:20250416T113000
DTSTAMP:20260423T163744
CREATED:20250401T021544Z
LAST-MODIFIED:20250401T021544Z
UID:3223-1744797600-1744803000@www.agingcareconnections.org
SUMMARY:Technology Workshop - Bellwood
DESCRIPTION:New class! Only 10 seats – register now! \nLearn the basics of technology using an iPad that we provide.  Connect with technology unafraid and stay connected with loved ones! This is a five-week course; come for just one or all five sessions. \nQuestions? Call 708-603-2277. \nRegistration is required. Seating is limited to the first 10 registrants. \nTo register:
URL:https://www.agingcareconnections.org/event/technology-workshop-bellwood-3/
LOCATION:West Suburban Senior Services\, 439 Bohland Ave\, Bellwood\, Illinois
CATEGORIES:Lifelong Learning,Technology
ATTACH;FMTTYPE=image/jpeg:https://www.agingcareconnections.org/wp-content/uploads/2025/03/ACC-Computer-Class-Calendar-Image-2.jpg
END:VEVENT
BEGIN:VEVENT
DTSTART;TZID=America/Chicago:20250409T100000
DTEND;TZID=America/Chicago:20250409T113000
DTSTAMP:20260423T163744
CREATED:20250331T233930Z
LAST-MODIFIED:20250331T233930Z
UID:3199-1744192800-1744198200@www.agingcareconnections.org
SUMMARY:Technology Workshop - Bellwood
DESCRIPTION:New class! Only 10 seats – register now! \nLearn the basics of technology using an iPad that we provide.  Connect with technology unafraid and stay connected with loved ones! This is a five-week course; come for just one or all five sessions. \nQuestions? Call 708-603-2277. \nRegistration is required. Seating is limited to the first 10 registrants. \nTo register:
URL:https://www.agingcareconnections.org/event/technology-workshop-bellwood-2/
LOCATION:West Suburban Senior Services\, 439 Bohland Ave\, Bellwood\, Illinois
CATEGORIES:Lifelong Learning,Technology
ATTACH;FMTTYPE=image/jpeg:https://www.agingcareconnections.org/wp-content/uploads/2025/03/ACC-Computer-Class-Calendar-Image-2.jpg
END:VEVENT
BEGIN:VEVENT
DTSTART;TZID=America/Chicago:20250402T100000
DTEND;TZID=America/Chicago:20250402T113000
DTSTAMP:20260423T163744
CREATED:20250331T231101Z
LAST-MODIFIED:20250331T234156Z
UID:3177-1743588000-1743593400@www.agingcareconnections.org
SUMMARY:Technology Workshop - Bellwood
DESCRIPTION:New class! Only 10 seats – register now! \nLearn the basics of technology using an iPad that we provide.  Connect with technology unafraid and stay connected with loved ones! This is a five-week course; come for just one or all five sessions. \nQuestions? Call 708-603-2277. \nRegistration is required. Seating is limited to the first 10 registrants. \nTo register:
URL:https://www.agingcareconnections.org/event/technology-workshop-bellwood/
LOCATION:West Suburban Senior Services\, 439 Bohland Ave\, Bellwood\, Illinois
CATEGORIES:Lifelong Learning,Technology
ATTACH;FMTTYPE=image/jpeg:https://www.agingcareconnections.org/wp-content/uploads/2025/03/ACC-Computer-Class-Calendar-Image-2.jpg
END:VEVENT
BEGIN:VEVENT
DTSTART;TZID=America/Chicago:20250319T100000
DTEND;TZID=America/Chicago:20250319T113000
DTSTAMP:20260423T163744
CREATED:20250304T040405Z
LAST-MODIFIED:20250306T190256Z
UID:2985-1742378400-1742383800@www.agingcareconnections.org
SUMMARY:Computers & Phones Made Easy - Bellwood
DESCRIPTION:New class! Only 10 seats – register now! \nLearn the basics of computers and cell phones. Connect with technology unafraid and stay connected with loved ones! This is a five-week course; come for just one or all five sessions. \nQuestions? Call 708-603-2277. \nRegistration is required. Seating is limited to the first 10 registrants. \nTo register: \n                \n                        \n                            Computers & Phones Made Easy\n                            Workshop Registration \n                        \n                        Name(Required)\n                            \n                            \n                                                    \n                                                    First\n                                                \n                            \n                            \n                                                    \n                                                    Last\n                                                \n                            \n                        Email(Required)\n                            \n                        Phone(Required)Number attending(Required)1234
URL:https://www.agingcareconnections.org/event/computers-phones-made-easy/
LOCATION:West Suburban Senior Services\, 439 Bohland Ave\, Bellwood\, Illinois
CATEGORIES:Lifelong Learning,Technology
ATTACH;FMTTYPE=image/jpeg:https://www.agingcareconnections.org/wp-content/uploads/2025/03/ACC-Computer-Class-Calendar-Image.jpg
END:VEVENT
END:VCALENDAR