BEGIN:VCALENDAR
VERSION:2.0
PRODID:-//Aging Care Connections - ECPv6.15.20//NONSGML v1.0//EN
CALSCALE:GREGORIAN
METHOD:PUBLISH
X-WR-CALNAME:Aging Care Connections
X-ORIGINAL-URL:https://www.agingcareconnections.org
X-WR-CALDESC:Events for Aging Care Connections
REFRESH-INTERVAL;VALUE=DURATION:PT1H
X-Robots-Tag:noindex
X-PUBLISHED-TTL:PT1H
BEGIN:VTIMEZONE
TZID:America/Chicago
BEGIN:DAYLIGHT
TZOFFSETFROM:-0600
TZOFFSETTO:-0500
TZNAME:CDT
DTSTART:20230312T080000
END:DAYLIGHT
BEGIN:STANDARD
TZOFFSETFROM:-0500
TZOFFSETTO:-0600
TZNAME:CST
DTSTART:20231105T070000
END:STANDARD
BEGIN:DAYLIGHT
TZOFFSETFROM:-0600
TZOFFSETTO:-0500
TZNAME:CDT
DTSTART:20240310T080000
END:DAYLIGHT
BEGIN:STANDARD
TZOFFSETFROM:-0500
TZOFFSETTO:-0600
TZNAME:CST
DTSTART:20241103T070000
END:STANDARD
BEGIN:DAYLIGHT
TZOFFSETFROM:-0600
TZOFFSETTO:-0500
TZNAME:CDT
DTSTART:20250309T080000
END:DAYLIGHT
BEGIN:STANDARD
TZOFFSETFROM:-0500
TZOFFSETTO:-0600
TZNAME:CST
DTSTART:20251102T070000
END:STANDARD
BEGIN:DAYLIGHT
TZOFFSETFROM:-0600
TZOFFSETTO:-0500
TZNAME:CDT
DTSTART:20260308T080000
END:DAYLIGHT
BEGIN:STANDARD
TZOFFSETFROM:-0500
TZOFFSETTO:-0600
TZNAME:CST
DTSTART:20261101T070000
END:STANDARD
END:VTIMEZONE
BEGIN:VEVENT
DTSTART;TZID=America/Chicago:20250205T103000
DTEND;TZID=America/Chicago:20250205T113000
DTSTAMP:20260425T052704
CREATED:20250129T180751Z
LAST-MODIFIED:20250129T180751Z
UID:2790-1738751400-1738755000@www.agingcareconnections.org
SUMMARY:Art & Ice Cream - Bellwood
DESCRIPTION:Where else can you relax with friends\, create a masterpiece and get served ice cream?  With Aging Care Connections\, of course! \nFor questions\, contact awn@agingcareconnections.org or call 708-603-2277. \nRegistration is required. \nTo register:
URL:https://www.agingcareconnections.org/event/art-ice-cream-bellwood/
LOCATION:West Suburban Senior Services\, 439 Bohland Ave\, Bellwood\, Illinois
CATEGORIES:Arts & Crafts,Food,Social
ATTACH;FMTTYPE=image/jpeg:https://www.agingcareconnections.org/wp-content/uploads/2024/11/ACC-Art-and-Ice-Cream-Calendar-Image.jpg
END:VEVENT
BEGIN:VEVENT
DTSTART;TZID=America/Chicago:20250116T133000
DTEND;TZID=America/Chicago:20250116T153000
DTSTAMP:20260425T052704
CREATED:20250101T000338Z
LAST-MODIFIED:20250110T200354Z
UID:2225-1737034200-1737041400@www.agingcareconnections.org
SUMMARY:Lunch and Entertainment - Saddle Shoe Sisters
DESCRIPTION:Get ready for an afternoon of delicious food and outstanding entertainment by the Saddle Shoe Sisters. Rave reviews for this duo bringing us back to the ’50s and ’60s. \nRegister early – seating is limited to the first 50 registrants. \nFor questions\, contact Barb Kohley at bkohley@agingcareconnections.org. \nTo register: \n\n                \n                        \n                            Lunch and Entertainment - Saddle Shoe Sisters\n                            Workshop Registration \n                        \n                        Name(Required)\n                            \n                            \n                                                    \n                                                    First\n                                                \n                            \n                            \n                                                    \n                                                    Last\n                                                \n                            \n                        Email(Required)\n                            \n                        Phone(Required)Number attending(Required)1234
URL:https://www.agingcareconnections.org/event/lunch-and-entertainment-saddle-shoe-sisters/
LOCATION:Indian Head Park Village Hall\, 201 Acacia Drive\, Indian Head Park\, IL\, 60525\, United States
CATEGORIES:Food,Music,Social
ATTACH;FMTTYPE=image/jpeg:https://www.agingcareconnections.org/wp-content/uploads/2024/12/ACC-Saddle-Shoe-Sisters-Calendar-Image.jpg
END:VEVENT
BEGIN:VEVENT
DTSTART;TZID=America/Chicago:20250115T130000
DTEND;TZID=America/Chicago:20250115T150000
DTSTAMP:20260425T052704
CREATED:20241231T235644Z
LAST-MODIFIED:20250101T005853Z
UID:2711-1736946000-1736953200@www.agingcareconnections.org
SUMMARY:Movie in the Park
DESCRIPTION:Enjoy an afternoon at the movies with friends. \nFor questions\, contact Adriana Garcia\, agarcia@agingcareconnections.org or call 708-603-2328. \nRegistration required. \nTo register: \n                \n                        \n                            Movie in the Park\n                            Workshop Registration \n                        \n                        Name(Required)\n                            \n                            \n                                                    \n                                                    First\n                                                \n                            \n                            \n                                                    \n                                                    Last\n                                                \n                            \n                        Email(Required)\n                            \n                        Phone(Required)Number attending(Required)1234
URL:https://www.agingcareconnections.org/event/movie-in-the-park/
LOCATION:Summit Park District\, 5700 S. Archer Ave\, Summit\, IL\, United States
CATEGORIES:Community,Movies and Theater,Social
END:VEVENT
BEGIN:VEVENT
DTSTART;TZID=America/Chicago:20250114T113000
DTEND;TZID=America/Chicago:20250114T123000
DTSTAMP:20260425T052704
CREATED:20250110T195352Z
LAST-MODIFIED:20250110T195515Z
UID:2748-1736854200-1736857800@www.agingcareconnections.org
SUMMARY:Happy Hour - NEW EVENT!
DESCRIPTION:Come hear some good news for a change. Every month will be filled with things to laugh about\, be grateful for\, and heartwarming stories from around the world. We can even share good news with each other. It’s cold outside. Come in and feel warm! \nRegistration required. \nTo register: \n                \n                        \n                            Happy Hour 1.14.25\n                            Workshop Registration \n                        \n                        Name(Required)\n                            \n                            \n                                                    \n                                                    First\n                                                \n                            \n                            \n                                                    \n                                                    Last\n                                                \n                            \n                        Email(Required)\n                            \n                        Phone(Required)Number attending(Required)1234
URL:https://www.agingcareconnections.org/event/happy-hour-new-event/
LOCATION:Aging Care Connections\, 111 W. Harris Avenue\, La Grange\, IL\, 60525\, United States
CATEGORIES:Community,Social
ATTACH;FMTTYPE=image/jpeg:https://www.agingcareconnections.org/wp-content/uploads/2025/01/ACC-Happy-Hour-Calendar-Image.jpg
END:VEVENT
BEGIN:VEVENT
DTSTART;TZID=America/Chicago:20250114T103000
DTEND;TZID=America/Chicago:20250114T113000
DTSTAMP:20260425T052704
CREATED:20241231T235100Z
LAST-MODIFIED:20241231T235100Z
UID:2709-1736850600-1736854200@www.agingcareconnections.org
SUMMARY:Coffee & Art
DESCRIPTION:Enjoy a warm drink and indulge your creative side with friends. \nNo experience needed. All supplies provided! \nNo registration required.
URL:https://www.agingcareconnections.org/event/coffee-art/
LOCATION:Summit Public Library\, 6233 S. Archer Rd.\, Summmit\, IL\, United States
CATEGORIES:Arts & Crafts,Community,Social
END:VEVENT
BEGIN:VEVENT
DTSTART;TZID=America/Chicago:20241219T133000
DTEND;TZID=America/Chicago:20241219T153000
DTSTAMP:20260425T052704
CREATED:20241208T032807Z
LAST-MODIFIED:20241208T053145Z
UID:2525-1734615000-1734622200@www.agingcareconnections.org
SUMMARY:Holiday Party
DESCRIPTION:Come one\, Come all to a jolly time of Ugly Xmas Sweaters\, Hot Chocolate Bar\, Holiday sing along and of course\, lunch.  There’ll be raffle prizes and gift cards to win. \nFor questions\, contact Barb Kohley at bkohley@agingcareconnections.org or 708-603-2259. \nRegistration is required. \nTo register: \n                \n                        \n                            Holiday Party\n                            Workshop Registration \n                        \n                        Name(Required)\n                            \n                            \n                                                    \n                                                    First\n                                                \n                            \n                            \n                                                    \n                                                    Last\n                                                \n                            \n                        Email(Required)\n                            \n                        Phone(Required)Number attending(Required)1234
URL:https://www.agingcareconnections.org/event/holiday-party/
LOCATION:Indian Head Park Village Hall\, 201 Acacia Drive\, Indian Head Park\, IL\, 60525\, United States
CATEGORIES:Holiday Event,Social
ATTACH;FMTTYPE=image/jpeg:https://www.agingcareconnections.org/wp-content/uploads/2024/12/ACC-Holiday-Party-Calendar-Image.jpg
END:VEVENT
END:VCALENDAR