BEGIN:VCALENDAR
VERSION:2.0
PRODID:-//Aging Care Connections - ECPv6.15.20//NONSGML v1.0//EN
CALSCALE:GREGORIAN
METHOD:PUBLISH
X-WR-CALNAME:Aging Care Connections
X-ORIGINAL-URL:https://www.agingcareconnections.org
X-WR-CALDESC:Events for Aging Care Connections
REFRESH-INTERVAL;VALUE=DURATION:PT1H
X-Robots-Tag:noindex
X-PUBLISHED-TTL:PT1H
BEGIN:VTIMEZONE
TZID:America/Chicago
BEGIN:DAYLIGHT
TZOFFSETFROM:-0600
TZOFFSETTO:-0500
TZNAME:CDT
DTSTART:20240310T080000
END:DAYLIGHT
BEGIN:STANDARD
TZOFFSETFROM:-0500
TZOFFSETTO:-0600
TZNAME:CST
DTSTART:20241103T070000
END:STANDARD
BEGIN:DAYLIGHT
TZOFFSETFROM:-0600
TZOFFSETTO:-0500
TZNAME:CDT
DTSTART:20250309T080000
END:DAYLIGHT
BEGIN:STANDARD
TZOFFSETFROM:-0500
TZOFFSETTO:-0600
TZNAME:CST
DTSTART:20251102T070000
END:STANDARD
BEGIN:DAYLIGHT
TZOFFSETFROM:-0600
TZOFFSETTO:-0500
TZNAME:CDT
DTSTART:20260308T080000
END:DAYLIGHT
BEGIN:STANDARD
TZOFFSETFROM:-0500
TZOFFSETTO:-0600
TZNAME:CST
DTSTART:20261101T070000
END:STANDARD
END:VTIMEZONE
BEGIN:VEVENT
DTSTART;TZID=America/Chicago:20250723T080000
DTEND;TZID=America/Chicago:20250723T100000
DTSTAMP:20260424T172506
CREATED:20250630T034341Z
LAST-MODIFIED:20250630T034341Z
UID:3723-1753257600-1753264800@www.agingcareconnections.org
SUMMARY:Senior Walking Club - Summit
DESCRIPTION:Join this growing group for fitness and fun. Stay for all or part of the session. \nQuestions? Contact us at awn@agingcareconnections.org or 708-582-6879. \nRegistration required. \nTo register:
URL:https://www.agingcareconnections.org/event/senior-walking-club-summit-31/
LOCATION:Summit Park District\, 5700 S. Archer Ave\, Summit\, IL\, United States
CATEGORIES:Fitness,Social
ATTACH;FMTTYPE=image/jpeg:https://www.agingcareconnections.org/wp-content/uploads/2024/11/ACC-Senior-Walking-Club-Calendar-Image-1.jpg
END:VEVENT
BEGIN:VEVENT
DTSTART;TZID=America/Chicago:20250721T080000
DTEND;TZID=America/Chicago:20250721T100000
DTSTAMP:20260424T172506
CREATED:20250630T033549Z
LAST-MODIFIED:20250630T033549Z
UID:3717-1753084800-1753092000@www.agingcareconnections.org
SUMMARY:Senior Walking Club - Summit
DESCRIPTION:Join this growing group for fitness and fun. Stay for all or part of the session. \nQuestions? Contact us at awn@agingcareconnections.org or 708-582-6879. \nRegistration required. \nTo register:
URL:https://www.agingcareconnections.org/event/senior-walking-club-summit-30/
LOCATION:Summit Park District\, 5700 S. Archer Ave\, Summit\, IL\, United States
CATEGORIES:Fitness,Social
ATTACH;FMTTYPE=image/jpeg:https://www.agingcareconnections.org/wp-content/uploads/2024/11/ACC-Senior-Walking-Club-Calendar-Image-1.jpg
END:VEVENT
BEGIN:VEVENT
DTSTART;TZID=America/Chicago:20250717T133000
DTEND;TZID=America/Chicago:20250717T153000
DTSTAMP:20260424T172506
CREATED:20250630T033251Z
LAST-MODIFIED:20250630T033251Z
UID:3714-1752759000-1752766200@www.agingcareconnections.org
SUMMARY:Lunch and Entertainment - Indian Head Park
DESCRIPTION:Enjoy a delicious lunch followed by fun entertainment! TBD\, so watch this space for more info! \nRegister early – seating is limited to the first 50 registrants. Delicious lunch – no charge. \nFor questions\, contact ACC at awn@agingcareconnections.org. \nTo register: \n\n                \n                        \n                            Lunch and Entertainment - TBD\n                            Workshop Registration \n                        \n                        Name(Required)\n                            \n                            \n                                                    \n                                                    First\n                                                \n                            \n                            \n                                                    \n                                                    Last\n                                                \n                            \n                        Email(Required)\n                            \n                        Phone(Required)Number attending(Required)1234
URL:https://www.agingcareconnections.org/event/lunch-and-entertainment-indian-head-park/
LOCATION:Indian Head Park Village Hall\, 201 Acacia Drive\, Indian Head Park\, IL\, 60525\, United States
CATEGORIES:Community,Featured,Food,Music,Social
END:VEVENT
BEGIN:VEVENT
DTSTART;TZID=America/Chicago:20250716T113000
DTEND;TZID=America/Chicago:20250716T143000
DTSTAMP:20260424T172506
CREATED:20250630T032400Z
LAST-MODIFIED:20250630T032400Z
UID:3708-1752665400-1752676200@www.agingcareconnections.org
SUMMARY:Congregate Meals Lunch & Learn - Summit
DESCRIPTION:Alzheimer’s Association: 10 Warning Signs of Alzheimer’s and Dementia. \nSomething new! Join us for a $3 meal (age 60+) and have fun getting education on Alzheimer’s Disease with BINGO! \nFor questions\, contact ACC at awn@agingcareconnections.org. \nTo register: \n                \n                        \n                            Congregate Meals Lunch and Learn 7.16\n                            Workshop Registration \n                        \n                        Name(Required)\n                            \n                            \n                                                    \n                                                    First\n                                                \n                            \n                            \n                                                    \n                                                    Last\n                                                \n                            \n                        Email(Required)\n                            \n                        Phone(Required)Number attending(Required)1234
URL:https://www.agingcareconnections.org/event/congregate-meals-lunch-learn-summit/
LOCATION:Summit Park District\, 5700 S. Archer Ave\, Summit\, IL\, United States
CATEGORIES:Community,Featured,Food,Senior Living Options,Social
END:VEVENT
BEGIN:VEVENT
DTSTART;TZID=America/Chicago:20250716T080000
DTEND;TZID=America/Chicago:20250716T100000
DTSTAMP:20260424T172506
CREATED:20250630T031310Z
LAST-MODIFIED:20250630T031310Z
UID:3701-1752652800-1752660000@www.agingcareconnections.org
SUMMARY:Senior Walking Club - Summit
DESCRIPTION:Join this growing group for fitness and fun. Stay for all or part of the session. \nQuestions? Contact us at awn@agingcareconnections.org or 708-582-6879. \nRegistration required. \nTo register:
URL:https://www.agingcareconnections.org/event/senior-walking-club-summit-29/
LOCATION:Summit Park District\, 5700 S. Archer Ave\, Summit\, IL\, United States
CATEGORIES:Fitness,Social
ATTACH;FMTTYPE=image/jpeg:https://www.agingcareconnections.org/wp-content/uploads/2024/11/ACC-Senior-Walking-Club-Calendar-Image-1.jpg
END:VEVENT
BEGIN:VEVENT
DTSTART;TZID=America/Chicago:20250715T103000
DTEND;TZID=America/Chicago:20250715T123000
DTSTAMP:20260424T172506
CREATED:20250630T030637Z
LAST-MODIFIED:20250630T030637Z
UID:3695-1752575400-1752582600@www.agingcareconnections.org
SUMMARY:Café & Arte - Sew a Blue Jean Bag! - Summit
DESCRIPTION:No experience necessary. Bring your own jeans! \nFor questions\, contact awn@agingcareconnections.org or 708-582-6879. \nRegistration required. \nTo register:
URL:https://www.agingcareconnections.org/event/cafe-arte-sew-a-blue-jean-bag-summit-2/
LOCATION:Summit Public Library\, 6233 S. Archer Rd.\, Summmit\, IL\, United States
CATEGORIES:Arts & Crafts,Community,Social
END:VEVENT
BEGIN:VEVENT
DTSTART;TZID=America/Chicago:20250714T080000
DTEND;TZID=America/Chicago:20250714T100000
DTSTAMP:20260424T172506
CREATED:20250630T025641Z
LAST-MODIFIED:20250630T025641Z
UID:3689-1752480000-1752487200@www.agingcareconnections.org
SUMMARY:Senior Walking Club - Summit
DESCRIPTION:Join this growing group for fitness and fun. Stay for all or part of the session. \nQuestions? Contact us at awn@agingcareconnections.org or 708-582-6879. \nRegistration required. \nTo register:
URL:https://www.agingcareconnections.org/event/senior-walking-club-summit-28/
LOCATION:Summit Park District\, 5700 S. Archer Ave\, Summit\, IL\, United States
CATEGORIES:Fitness,Social
ATTACH;FMTTYPE=image/jpeg:https://www.agingcareconnections.org/wp-content/uploads/2024/11/ACC-Senior-Walking-Club-Calendar-Image-1.jpg
END:VEVENT
BEGIN:VEVENT
DTSTART;TZID=America/Chicago:20250709T080000
DTEND;TZID=America/Chicago:20250709T100000
DTSTAMP:20260424T172506
CREATED:20250630T024434Z
LAST-MODIFIED:20250630T024434Z
UID:3680-1752048000-1752055200@www.agingcareconnections.org
SUMMARY:Senior Walking Club - Summit
DESCRIPTION:Join this growing group for fitness and fun. Stay for all or part of the session. \nQuestions? Contact us at awn@agingcareconnections.org or 708-582-6879. \nRegistration required. \nTo register:
URL:https://www.agingcareconnections.org/event/senior-walking-club-summit-27/
LOCATION:Summit Park District\, 5700 S. Archer Ave\, Summit\, IL\, United States
CATEGORIES:Fitness,Social
ATTACH;FMTTYPE=image/jpeg:https://www.agingcareconnections.org/wp-content/uploads/2024/11/ACC-Senior-Walking-Club-Calendar-Image-1.jpg
END:VEVENT
BEGIN:VEVENT
DTSTART;TZID=America/Chicago:20250707T080000
DTEND;TZID=America/Chicago:20250707T100000
DTSTAMP:20260424T172506
CREATED:20250630T023257Z
LAST-MODIFIED:20250630T023257Z
UID:3671-1751875200-1751882400@www.agingcareconnections.org
SUMMARY:Senior Walking Club - Summit
DESCRIPTION:Join this growing group for fitness and fun. Stay for all or part of the session. \nQuestions? Contact us at awn@agingcareconnections.org or 708-582-6879. \nRegistration required. \nTo register:
URL:https://www.agingcareconnections.org/event/senior-walking-club-summit-26/
LOCATION:Summit Park District\, 5700 S. Archer Ave\, Summit\, IL\, United States
CATEGORIES:Fitness,Social
ATTACH;FMTTYPE=image/jpeg:https://www.agingcareconnections.org/wp-content/uploads/2024/11/ACC-Senior-Walking-Club-Calendar-Image-1.jpg
END:VEVENT
BEGIN:VEVENT
DTSTART;TZID=America/Chicago:20250702T080000
DTEND;TZID=America/Chicago:20250702T100000
DTSTAMP:20260424T172506
CREATED:20250630T021948Z
LAST-MODIFIED:20250630T022433Z
UID:3664-1751443200-1751450400@www.agingcareconnections.org
SUMMARY:Senior Walking Club - Summit
DESCRIPTION:Join this growing group for fitness and fun. Stay for all or part of the session. \nRegistration required. \nTo register:
URL:https://www.agingcareconnections.org/event/senior-walking-club-summit-25/
LOCATION:Summit Park District\, 5700 S. Archer Ave\, Summit\, IL\, United States
CATEGORIES:Fitness,Social
ATTACH;FMTTYPE=image/jpeg:https://www.agingcareconnections.org/wp-content/uploads/2024/11/ACC-Senior-Walking-Club-Calendar-Image-1.jpg
END:VEVENT
BEGIN:VEVENT
DTSTART;TZID=America/Chicago:20250630T080000
DTEND;TZID=America/Chicago:20250630T100000
DTSTAMP:20260424T172506
CREATED:20250601T095650Z
LAST-MODIFIED:20250601T095650Z
UID:3536-1751270400-1751277600@www.agingcareconnections.org
SUMMARY:Senior Walking Club - Summit
DESCRIPTION:Join us for fitness and fun! \nNo registration is required.
URL:https://www.agingcareconnections.org/event/senior-walking-club-summit-24/
LOCATION:Summit Park District\, 5700 S. Archer Ave\, Summit\, IL\, United States
CATEGORIES:Fitness,Social
ATTACH;FMTTYPE=image/jpeg:https://www.agingcareconnections.org/wp-content/uploads/2024/11/ACC-Senior-Walking-Club-Calendar-Image-1.jpg
END:VEVENT
BEGIN:VEVENT
DTSTART;TZID=America/Chicago:20250627T110000
DTEND;TZID=America/Chicago:20250627T140000
DTSTAMP:20260424T172506
CREATED:20250601T113258Z
LAST-MODIFIED:20250601T113258Z
UID:3608-1751022000-1751032800@www.agingcareconnections.org
SUMMARY:Senior "Country" Lunch - Summit
DESCRIPTION:Y’all come by for an afternoon of FOOD and FUN. \nRegistration is required. \nTo register:
URL:https://www.agingcareconnections.org/event/senior-country-lunch-summit/
LOCATION:Summit Park District\, 5700 S. Archer Ave\, Summit\, IL\, United States
CATEGORIES:Community,Food,Social
ATTACH;FMTTYPE=image/jpeg:https://www.agingcareconnections.org/wp-content/uploads/2024/11/ACC-Senior-Walking-Club-Calendar-Image-1.jpg
END:VEVENT
BEGIN:VEVENT
DTSTART;TZID=America/Chicago:20250626T133000
DTEND;TZID=America/Chicago:20250626T153000
DTSTAMP:20260424T172506
CREATED:20250601T112118Z
LAST-MODIFIED:20250601T112118Z
UID:3601-1750944600-1750951800@www.agingcareconnections.org
SUMMARY:Lunch and Education: Senior Living Options - Indian Head Park
DESCRIPTION:Enjoy a delicious and learn how to sort through the many options for senior living. Join us for an afternoon of great food\, great information\, and great company. \nRegister early – seating is limited to the first 50 registrants. \nFor questions\, contact ACC at awn@agingcareconnections.org. \nTo register: \n                \n                        \n                            Lunch and Education - Senior Living Options\n                            Workshop Registration \n                        \n                        Name(Required)\n                            \n                            \n                                                    \n                                                    First\n                                                \n                            \n                            \n                                                    \n                                                    Last\n                                                \n                            \n                        Email(Required)\n                            \n                        Phone(Required)Number attending(Required)1234
URL:https://www.agingcareconnections.org/event/lunch-and-education-senior-living-options-indian-head-park/
LOCATION:Indian Head Park Village Hall\, 201 Acacia Drive\, Indian Head Park\, IL\, 60525\, United States
CATEGORIES:Community,Featured,Food,Senior Living Options,Social
END:VEVENT
BEGIN:VEVENT
DTSTART;TZID=America/Chicago:20250623T080000
DTEND;TZID=America/Chicago:20250623T100000
DTSTAMP:20260424T172506
CREATED:20250601T095606Z
LAST-MODIFIED:20250601T095606Z
UID:3534-1750665600-1750672800@www.agingcareconnections.org
SUMMARY:Senior Walking Club - Summit
DESCRIPTION:Join us for fitness and fun! \nNo registration is required.
URL:https://www.agingcareconnections.org/event/senior-walking-club-summit-23/
LOCATION:Summit Park District\, 5700 S. Archer Ave\, Summit\, IL\, United States
CATEGORIES:Fitness,Social
ATTACH;FMTTYPE=image/jpeg:https://www.agingcareconnections.org/wp-content/uploads/2024/11/ACC-Senior-Walking-Club-Calendar-Image-1.jpg
END:VEVENT
BEGIN:VEVENT
DTSTART;TZID=America/Chicago:20250616T080000
DTEND;TZID=America/Chicago:20250616T100000
DTSTAMP:20260424T172506
CREATED:20250601T095525Z
LAST-MODIFIED:20250601T095525Z
UID:3532-1750060800-1750068000@www.agingcareconnections.org
SUMMARY:Senior Walking Club - Summit
DESCRIPTION:Join us for fitness and fun! \nNo registration is required.
URL:https://www.agingcareconnections.org/event/senior-walking-club-summit-22/
LOCATION:Summit Park District\, 5700 S. Archer Ave\, Summit\, IL\, United States
CATEGORIES:Fitness,Social
ATTACH;FMTTYPE=image/jpeg:https://www.agingcareconnections.org/wp-content/uploads/2024/11/ACC-Senior-Walking-Club-Calendar-Image-1.jpg
END:VEVENT
BEGIN:VEVENT
DTSTART;TZID=America/Chicago:20250611T080000
DTEND;TZID=America/Chicago:20250611T100000
DTSTAMP:20260424T172506
CREATED:20250601T095455Z
LAST-MODIFIED:20250601T095455Z
UID:3530-1749628800-1749636000@www.agingcareconnections.org
SUMMARY:Senior Walking Club - Summit
DESCRIPTION:Join us for fitness and fun! \nNo registration is required.
URL:https://www.agingcareconnections.org/event/senior-walking-club-summit-21/
LOCATION:Summit Park District\, 5700 S. Archer Ave\, Summit\, IL\, United States
CATEGORIES:Fitness,Social
ATTACH;FMTTYPE=image/jpeg:https://www.agingcareconnections.org/wp-content/uploads/2024/11/ACC-Senior-Walking-Club-Calendar-Image-1.jpg
END:VEVENT
BEGIN:VEVENT
DTSTART;TZID=America/Chicago:20250610T103000
DTEND;TZID=America/Chicago:20250610T123000
DTSTAMP:20260424T172506
CREATED:20250601T102859Z
LAST-MODIFIED:20250601T102859Z
UID:3559-1749551400-1749558600@www.agingcareconnections.org
SUMMARY:Café & Arte - Sew a Blue Jean Bag! - Summit
DESCRIPTION:No experience necessary. Bring your own jeans! \nFor questions\, contact awn@agingcareconnections.org or call 708-354-1323. \nNo registration is needed. Just come and have fun!
URL:https://www.agingcareconnections.org/event/cafe-arte-sew-a-blue-jean-bag-summit/
LOCATION:Summit Public Library\, 6233 S. Archer Rd.\, Summmit\, IL\, United States
CATEGORIES:Arts & Crafts,Community,Social
END:VEVENT
BEGIN:VEVENT
DTSTART;TZID=America/Chicago:20250609T080000
DTEND;TZID=America/Chicago:20250609T100000
DTSTAMP:20260424T172506
CREATED:20250601T095417Z
LAST-MODIFIED:20250601T095417Z
UID:3528-1749456000-1749463200@www.agingcareconnections.org
SUMMARY:Senior Walking Club - Summit
DESCRIPTION:Join us for fitness and fun! \nNo registration is required.
URL:https://www.agingcareconnections.org/event/senior-walking-club-summit-20/
LOCATION:Summit Park District\, 5700 S. Archer Ave\, Summit\, IL\, United States
CATEGORIES:Fitness,Social
ATTACH;FMTTYPE=image/jpeg:https://www.agingcareconnections.org/wp-content/uploads/2024/11/ACC-Senior-Walking-Club-Calendar-Image-1.jpg
END:VEVENT
BEGIN:VEVENT
DTSTART;TZID=America/Chicago:20250604T080000
DTEND;TZID=America/Chicago:20250604T100000
DTSTAMP:20260424T172506
CREATED:20250601T095339Z
LAST-MODIFIED:20250601T095339Z
UID:3526-1749024000-1749031200@www.agingcareconnections.org
SUMMARY:Senior Walking Club - Summit
DESCRIPTION:Join us for fitness and fun! \nNo registration is required.
URL:https://www.agingcareconnections.org/event/senior-walking-club-summit-19/
LOCATION:Summit Park District\, 5700 S. Archer Ave\, Summit\, IL\, United States
CATEGORIES:Fitness,Social
ATTACH;FMTTYPE=image/jpeg:https://www.agingcareconnections.org/wp-content/uploads/2024/11/ACC-Senior-Walking-Club-Calendar-Image-1.jpg
END:VEVENT
BEGIN:VEVENT
DTSTART;TZID=America/Chicago:20250602T080000
DTEND;TZID=America/Chicago:20250602T100000
DTSTAMP:20260424T172506
CREATED:20250601T095248Z
LAST-MODIFIED:20250601T095248Z
UID:3524-1748851200-1748858400@www.agingcareconnections.org
SUMMARY:Senior Walking Club - Summit
DESCRIPTION:Join us for fitness and fun! \nNo registration is required.
URL:https://www.agingcareconnections.org/event/senior-walking-club-summit-18/
LOCATION:Summit Park District\, 5700 S. Archer Ave\, Summit\, IL\, United States
CATEGORIES:Fitness,Social
ATTACH;FMTTYPE=image/jpeg:https://www.agingcareconnections.org/wp-content/uploads/2024/11/ACC-Senior-Walking-Club-Calendar-Image-1.jpg
END:VEVENT
BEGIN:VEVENT
DTSTART;TZID=America/Chicago:20250528T080000
DTEND;TZID=America/Chicago:20250528T100000
DTSTAMP:20260424T172506
CREATED:20250429T022539Z
LAST-MODIFIED:20250429T022539Z
UID:3339-1748419200-1748426400@www.agingcareconnections.org
SUMMARY:Senior Walking Club - Summit
DESCRIPTION:Join us for fitness and fun! \nNo registration is required.
URL:https://www.agingcareconnections.org/event/senior-walking-club-summit-17/
LOCATION:Summit Park District\, 5700 S. Archer Ave\, Summit\, IL\, United States
CATEGORIES:Fitness,Social
ATTACH;FMTTYPE=image/jpeg:https://www.agingcareconnections.org/wp-content/uploads/2024/11/ACC-Senior-Walking-Club-Calendar-Image-1.jpg
END:VEVENT
BEGIN:VEVENT
DTSTART;TZID=America/Chicago:20250526T080000
DTEND;TZID=America/Chicago:20250526T100000
DTSTAMP:20260424T172506
CREATED:20250429T022450Z
LAST-MODIFIED:20250429T022450Z
UID:3337-1748246400-1748253600@www.agingcareconnections.org
SUMMARY:Senior Walking Club - Summit
DESCRIPTION:Join us for fitness and fun! \nNo registration is required.
URL:https://www.agingcareconnections.org/event/senior-walking-club-summit-16/
LOCATION:Summit Park District\, 5700 S. Archer Ave\, Summit\, IL\, United States
CATEGORIES:Fitness,Social
ATTACH;FMTTYPE=image/jpeg:https://www.agingcareconnections.org/wp-content/uploads/2024/11/ACC-Senior-Walking-Club-Calendar-Image-1.jpg
END:VEVENT
BEGIN:VEVENT
DTSTART;TZID=America/Chicago:20250521T080000
DTEND;TZID=America/Chicago:20250521T100000
DTSTAMP:20260424T172506
CREATED:20250429T022403Z
LAST-MODIFIED:20250429T022403Z
UID:3335-1747814400-1747821600@www.agingcareconnections.org
SUMMARY:Senior Walking Club - Summit
DESCRIPTION:Join us for fitness and fun! \nNo registration is required.
URL:https://www.agingcareconnections.org/event/senior-walking-club-summit-15/
LOCATION:Summit Park District\, 5700 S. Archer Ave\, Summit\, IL\, United States
CATEGORIES:Fitness,Social
ATTACH;FMTTYPE=image/jpeg:https://www.agingcareconnections.org/wp-content/uploads/2024/11/ACC-Senior-Walking-Club-Calendar-Image-1.jpg
END:VEVENT
BEGIN:VEVENT
DTSTART;TZID=America/Chicago:20250519T080000
DTEND;TZID=America/Chicago:20250519T100000
DTSTAMP:20260424T172506
CREATED:20250429T022015Z
LAST-MODIFIED:20250429T022015Z
UID:3325-1747641600-1747648800@www.agingcareconnections.org
SUMMARY:Senior Walking Club - Summit
DESCRIPTION:Join us for fitness and fun! \nNo registration is required.
URL:https://www.agingcareconnections.org/event/senior-walking-club-summit-10/
LOCATION:Summit Park District\, 5700 S. Archer Ave\, Summit\, IL\, United States
CATEGORIES:Fitness,Social
ATTACH;FMTTYPE=image/jpeg:https://www.agingcareconnections.org/wp-content/uploads/2024/11/ACC-Senior-Walking-Club-Calendar-Image-1.jpg
END:VEVENT
BEGIN:VEVENT
DTSTART;TZID=America/Chicago:20250515T133000
DTEND;TZID=America/Chicago:20250515T153000
DTSTAMP:20260424T172506
CREATED:20250430T031215Z
LAST-MODIFIED:20250430T031215Z
UID:3393-1747315800-1747323000@www.agingcareconnections.org
SUMMARY:The Many Voices Of John Truncali - Indian Head Park
DESCRIPTION:Think Elvis\, Tom Jones\, Neil Diamond. \nLimited seating of 50. Register early. Delicious lunch – free of charge. \nFor questions\, contact Barb Kohley at bkohley@agingcareconnections.org. \nTo register: \n                \n                        \n                            The Many Voices of John Truncali\n                            Workshop Registration \n                        \n                        Name(Required)\n                            \n                            \n                                                    \n                                                    First\n                                                \n                            \n                            \n                                                    \n                                                    Last\n                                                \n                            \n                        Email(Required)\n                            \n                        Phone(Required)Number attending(Required)1234
URL:https://www.agingcareconnections.org/event/the-many-voices-of-john-truncali-indian-head-park/
LOCATION:Indian Head Park Village Hall\, 201 Acacia Drive\, Indian Head Park\, IL\, 60525\, United States
CATEGORIES:Food,Music,Social
END:VEVENT
BEGIN:VEVENT
DTSTART;TZID=America/Chicago:20250514T113000
DTEND;TZID=America/Chicago:20250514T133000
DTSTAMP:20260424T172506
CREATED:20250429T035026Z
LAST-MODIFIED:20250429T035026Z
UID:3384-1747222200-1747229400@www.agingcareconnections.org
SUMMARY:Lunch and a Movie - ACC La Grange
DESCRIPTION:Join us for a wild afternoon watching Twister. Enjoy the thrills of storm chasing\, lunch\, and great company—see you there!\nFor questions\, contact awn@agingcareconnections.org or call 708-603-2259. \nRegistration is required. \nTo register: \n                \n                        \n                            Lunch and a Movie - Twister\n                            Workshop Registration \n                        \n                        Name(Required)\n                            \n                            \n                                                    \n                                                    First\n                                                \n                            \n                            \n                                                    \n                                                    Last\n                                                \n                            \n                        Email(Required)\n                            \n                        Phone(Required)Number attending(Required)1234
URL:https://www.agingcareconnections.org/event/lunch-and-a-movie-acc-la-grange-2/
LOCATION:Aging Care Connections\, 111 W. Harris Avenue\, La Grange\, IL\, 60525\, United States
CATEGORIES:Movies and Theater,Social
ATTACH;FMTTYPE=image/jpeg:https://www.agingcareconnections.org/wp-content/uploads/2025/03/Movie-Time-Calendar-Image.jpg
END:VEVENT
BEGIN:VEVENT
DTSTART;TZID=America/Chicago:20250514T110000
DTEND;TZID=America/Chicago:20250514T140000
DTSTAMP:20260424T172506
CREATED:20250429T034417Z
LAST-MODIFIED:20250429T034516Z
UID:3381-1747220400-1747231200@www.agingcareconnections.org
SUMMARY:Spring Bingo - Summit
DESCRIPTION:Registration is required. \nTo register: \n                \n                        \n                            Spring Bingo\n                            Workshop Registration \n                        \n                        Name(Required)\n                            \n                            \n                                                    \n                                                    First\n                                                \n                            \n                            \n                                                    \n                                                    Last\n                                                \n                            \n                        Email(Required)\n                            \n                        Phone(Required)Number attending(Required)1234
URL:https://www.agingcareconnections.org/event/spring-bingo-summit/
LOCATION:Summit Park District\, 5700 S. Archer Ave\, Summit\, IL\, United States
CATEGORIES:Community,Games,Social
END:VEVENT
BEGIN:VEVENT
DTSTART;TZID=America/Chicago:20250514T103000
DTEND;TZID=America/Chicago:20250514T113000
DTSTAMP:20260424T172506
CREATED:20250429T033903Z
LAST-MODIFIED:20250429T033903Z
UID:3378-1747218600-1747222200@www.agingcareconnections.org
SUMMARY:Art & Ice Cream - Flower Making! - Bellwood
DESCRIPTION:What a great way to relax with friends\, create a masterpiece and get served ice cream.  We’ll be making flowers\, so don’t miss out! \nFor questions\, contact awn@agingcareconnections.org or call 708-603-2277. \nRegistration is required. \nTo register:
URL:https://www.agingcareconnections.org/event/art-ice-cream-flower-making-bellwood/
LOCATION:West Suburban Senior Services\, 439 Bohland Ave\, Bellwood\, Illinois
CATEGORIES:Arts & Crafts,Food,Social
ATTACH;FMTTYPE=image/jpeg:https://www.agingcareconnections.org/wp-content/uploads/2024/11/ACC-Art-and-Ice-Cream-Calendar-Image.jpg
END:VEVENT
BEGIN:VEVENT
DTSTART;TZID=America/Chicago:20250514T080000
DTEND;TZID=America/Chicago:20250514T100000
DTSTAMP:20260424T172506
CREATED:20250429T022047Z
LAST-MODIFIED:20250429T022047Z
UID:3326-1747209600-1747216800@www.agingcareconnections.org
SUMMARY:Senior Walking Club - Summit
DESCRIPTION:Join us for fitness and fun! \nNo registration is required.
URL:https://www.agingcareconnections.org/event/senior-walking-club-summit-11/
LOCATION:Summit Park District\, 5700 S. Archer Ave\, Summit\, IL\, United States
CATEGORIES:Fitness,Social
ATTACH;FMTTYPE=image/jpeg:https://www.agingcareconnections.org/wp-content/uploads/2024/11/ACC-Senior-Walking-Club-Calendar-Image-1.jpg
END:VEVENT
BEGIN:VEVENT
DTSTART;TZID=America/Chicago:20250513T103000
DTEND;TZID=America/Chicago:20250513T123000
DTSTAMP:20260424T172506
CREATED:20250429T032539Z
LAST-MODIFIED:20250429T032539Z
UID:3372-1747132200-1747139400@www.agingcareconnections.org
SUMMARY:Café & Arte - Learn to Crochet! - Summit
DESCRIPTION:No experience necessary – all supplies provided \nFor questions\, contact Adriana Garcia\, agarcia@agingcareconnections.org or call 708-354-1323. \nRegistration required. \nTo register:
URL:https://www.agingcareconnections.org/event/cafe-arte-learn-to-crochet-summit-2/
LOCATION:Summit Public Library\, 6233 S. Archer Rd.\, Summmit\, IL\, United States
CATEGORIES:Arts & Crafts,Community,Social
ATTACH;FMTTYPE=image/jpeg:https://www.agingcareconnections.org/wp-content/uploads/2025/03/ACC-Cafe-and-Art-3.11-Calendar-Image.jpg
END:VEVENT
END:VCALENDAR