BEGIN:VCALENDAR
VERSION:2.0
PRODID:-//Aging Care Connections - ECPv6.15.20//NONSGML v1.0//EN
CALSCALE:GREGORIAN
METHOD:PUBLISH
X-ORIGINAL-URL:https://www.agingcareconnections.org
X-WR-CALDESC:Events for Aging Care Connections
REFRESH-INTERVAL;VALUE=DURATION:PT1H
X-Robots-Tag:noindex
X-PUBLISHED-TTL:PT1H
BEGIN:VTIMEZONE
TZID:America/Chicago
BEGIN:DAYLIGHT
TZOFFSETFROM:-0600
TZOFFSETTO:-0500
TZNAME:CDT
DTSTART:20250309T080000
END:DAYLIGHT
BEGIN:STANDARD
TZOFFSETFROM:-0500
TZOFFSETTO:-0600
TZNAME:CST
DTSTART:20251102T070000
END:STANDARD
BEGIN:DAYLIGHT
TZOFFSETFROM:-0600
TZOFFSETTO:-0500
TZNAME:CDT
DTSTART:20260308T080000
END:DAYLIGHT
BEGIN:STANDARD
TZOFFSETFROM:-0500
TZOFFSETTO:-0600
TZNAME:CST
DTSTART:20261101T070000
END:STANDARD
BEGIN:DAYLIGHT
TZOFFSETFROM:-0600
TZOFFSETTO:-0500
TZNAME:CDT
DTSTART:20270314T080000
END:DAYLIGHT
BEGIN:STANDARD
TZOFFSETFROM:-0500
TZOFFSETTO:-0600
TZNAME:CST
DTSTART:20271107T070000
END:STANDARD
END:VTIMEZONE
BEGIN:VEVENT
DTSTART;TZID=America/Chicago:20260408T080000
DTEND;TZID=America/Chicago:20260408T100000
DTSTAMP:20260424T170011
CREATED:20260331T010140Z
LAST-MODIFIED:20260331T010140Z
UID:5368-1775635200-1775642400@www.agingcareconnections.org
SUMMARY:Senior Walking Club - Summit
DESCRIPTION:Join this growing group for fitness and fun. Stay for all or part of the session. \nQuestions? Contact us at awn@agingcareconnections.org or 708-582-6879\, or to register. \nRegistration required. \n 
URL:https://www.agingcareconnections.org/event/senior-walking-club-summit-97/
LOCATION:Summit Park District\, 5700 S. Archer Ave\, Summit\, IL\, United States
CATEGORIES:Fitness,Social
ATTACH;FMTTYPE=image/jpeg:https://www.agingcareconnections.org/wp-content/uploads/2024/11/ACC-Senior-Walking-Club-Calendar-Image-1.jpg
END:VEVENT
BEGIN:VEVENT
DTSTART;TZID=America/Chicago:20260408T103000
DTEND;TZID=America/Chicago:20260408T113000
DTSTAMP:20260424T170011
CREATED:20260331T012856Z
LAST-MODIFIED:20260331T012856Z
UID:5396-1775644200-1775647800@www.agingcareconnections.org
SUMMARY:Café y Arte - Summit
DESCRIPTION:Join us for a fun morning of activities and socializing! \nFor questions\, contact awn@agingcareconnections.org or 708-582-6879. \nRegistration required. Call or email us today! \nTo register: \n\n                \n                        \n                            Cafe y Arte - Summit - 4.8.26\n                            Workshop Registration \n                        \n                        Name(Required)\n                            \n                            \n                                                    \n                                                    First\n                                                \n                            \n                            \n                                                    \n                                                    Last\n                                                \n                            \n                        Email(Required)\n                            \n                        Phone(Required)Number attending(Required)1234
URL:https://www.agingcareconnections.org/event/cafe-y-arte-summit-2/
LOCATION:Summit Park District\, 5700 S. Archer Ave\, Summit\, IL\, United States
CATEGORIES:Arts & Crafts,Community,Fitness,Social
END:VEVENT
BEGIN:VEVENT
DTSTART;TZID=America/Chicago:20260408T111500
DTEND;TZID=America/Chicago:20260408T130000
DTSTAMP:20260424T170011
CREATED:20260331T013254Z
LAST-MODIFIED:20260331T013254Z
UID:5399-1775646900-1775653200@www.agingcareconnections.org
SUMMARY:Westchester Lunch/Bingo
DESCRIPTION:Fabulous catered lunch and Bingo. We have room for 100 people. Must be 60+. May use waitlist if overbooked. \nFor questions\, contact awn@agingcareconnections.org or call 708-603-2277. \nRegistration required. \nTo register: \n                \n                        \n                            Westchester Lunch and Bingo 4.8.26\n                            Workshop Registration \n                        \n                        Name(Required)\n                            \n                            \n                                                    \n                                                    First\n                                                \n                            \n                            \n                                                    \n                                                    Last\n                                                \n                            \n                        Email(Required)\n                            \n                        Phone(Required)Number attending(Required)1234
URL:https://www.agingcareconnections.org/event/westchester-lunch-bingo-2/
LOCATION:Westchester Community Church\, 1840 Westchester Blvd\, Westchester\, IL\, 60154\, United States
CATEGORIES:Food,Games,Social
END:VEVENT
END:VCALENDAR