BEGIN:VCALENDAR
VERSION:2.0
PRODID:-//Aging Care Connections - ECPv6.15.20//NONSGML v1.0//EN
CALSCALE:GREGORIAN
METHOD:PUBLISH
X-ORIGINAL-URL:https://www.agingcareconnections.org
X-WR-CALDESC:Events for Aging Care Connections
REFRESH-INTERVAL;VALUE=DURATION:PT1H
X-Robots-Tag:noindex
X-PUBLISHED-TTL:PT1H
BEGIN:VTIMEZONE
TZID:America/Chicago
BEGIN:DAYLIGHT
TZOFFSETFROM:-0600
TZOFFSETTO:-0500
TZNAME:CDT
DTSTART:20250309T080000
END:DAYLIGHT
BEGIN:STANDARD
TZOFFSETFROM:-0500
TZOFFSETTO:-0600
TZNAME:CST
DTSTART:20251102T070000
END:STANDARD
BEGIN:DAYLIGHT
TZOFFSETFROM:-0600
TZOFFSETTO:-0500
TZNAME:CDT
DTSTART:20260308T080000
END:DAYLIGHT
BEGIN:STANDARD
TZOFFSETFROM:-0500
TZOFFSETTO:-0600
TZNAME:CST
DTSTART:20261101T070000
END:STANDARD
BEGIN:DAYLIGHT
TZOFFSETFROM:-0600
TZOFFSETTO:-0500
TZNAME:CDT
DTSTART:20270314T080000
END:DAYLIGHT
BEGIN:STANDARD
TZOFFSETFROM:-0500
TZOFFSETTO:-0600
TZNAME:CST
DTSTART:20271107T070000
END:STANDARD
END:VTIMEZONE
BEGIN:VEVENT
DTSTART;TZID=America/Chicago:20260318T080000
DTEND;TZID=America/Chicago:20260318T100000
DTSTAMP:20260421T040141
CREATED:20260301T031253Z
LAST-MODIFIED:20260301T031253Z
UID:5181-1773820800-1773828000@www.agingcareconnections.org
SUMMARY:Senior Walking Club - Summit
DESCRIPTION:Join this growing group for fitness and fun. Stay for all or part of the session. \nQuestions? Contact us at awn@agingcareconnections.org or 708-582-6879. \nRegistration required. Call or email us today! \n 
URL:https://www.agingcareconnections.org/event/senior-walking-club-summit-93/
LOCATION:Summit Park District\, 5700 S. Archer Ave\, Summit\, IL\, United States
CATEGORIES:Fitness,Social
ATTACH;FMTTYPE=image/jpeg:https://www.agingcareconnections.org/wp-content/uploads/2024/11/ACC-Senior-Walking-Club-Calendar-Image-1.jpg
END:VEVENT
BEGIN:VEVENT
DTSTART;TZID=America/Chicago:20260318T100000
DTEND;TZID=America/Chicago:20260318T113000
DTSTAMP:20260421T040141
CREATED:20260301T050610Z
LAST-MODIFIED:20260301T050610Z
UID:5268-1773828000-1773833400@www.agingcareconnections.org
SUMMARY:Caregiver Support Group - La Grange
DESCRIPTION:The needs and demands of caregiving can be tiring and time-consuming. Caring for yourself is critical. Led by aging care experts\, caregivers share stories\, exchange ideas and learn more about living with the disease and the resources available. \nNo registration required.
URL:https://www.agingcareconnections.org/event/caregiver-support-group-la-grange-21/
LOCATION:Aging Care Connections\, 111 W. Harris Avenue\, La Grange\, IL\, 60525\, United States
CATEGORIES:Support Group
ATTACH;FMTTYPE=image/jpeg:https://www.agingcareconnections.org/wp-content/uploads/2024/11/ACC-Caregiver-Support-Group-Calendar-Image.jpg
END:VEVENT
BEGIN:VEVENT
DTSTART;TZID=America/Chicago:20260318T103000
DTEND;TZID=America/Chicago:20260318T113000
DTSTAMP:20260421T040141
CREATED:20260301T041725Z
LAST-MODIFIED:20260301T041725Z
UID:5234-1773829800-1773833400@www.agingcareconnections.org
SUMMARY:Art & Ice Cream - Bellwood
DESCRIPTION:Let’s do a craft together and enjoy a sweet treat! \nFor questions\, contact awn@agingcareconnections.org or call 708-603-2277. \nRegistration is required. \nTo register: \n\n                \n                        \n                            Art & Ice Cream - Bellwood - 3.18.26\n                            Workshop Registration \n                        \n                        Name(Required)\n                            \n                            \n                                                    \n                                                    First\n                                                \n                            \n                            \n                                                    \n                                                    Last\n                                                \n                            \n                        Email(Required)\n                            \n                        Phone(Required)Number attending(Required)1234
URL:https://www.agingcareconnections.org/event/art-ice-cream-bellwood-7/
LOCATION:West Suburban Senior Services\, 439 Bohland Ave\, Bellwood\, Illinois
CATEGORIES:Arts & Crafts,Food
ATTACH;FMTTYPE=image/jpeg:https://www.agingcareconnections.org/wp-content/uploads/2024/11/ACC-Art-and-Ice-Cream-Calendar-Image.jpg
END:VEVENT
BEGIN:VEVENT
DTSTART;TZID=America/Chicago:20260318T103000
DTEND;TZID=America/Chicago:20260318T140000
DTSTAMP:20260421T040141
CREATED:20260301T042149Z
LAST-MODIFIED:20260301T042149Z
UID:5237-1773829800-1773842400@www.agingcareconnections.org
SUMMARY:Congregate Lunch - Summit
DESCRIPTION:Join us for a $3 meal (age 60+) and have fun\, too! \nFor questions\, or to register\, contact ACC at awn@agingcareconnections.org or 708-582-6879. \nTo register: \n                \n                        \n                            Congregate Lunch - Summit - 3.18.26\n                            Workshop Registration \n                        \n                        Name(Required)\n                            \n                            \n                                                    \n                                                    First\n                                                \n                            \n                            \n                                                    \n                                                    Last\n                                                \n                            \n                        Email(Required)\n                            \n                        Phone(Required)Number attending(Required)1234Consent(Required) I agree to the waiver and photo release.Read our waiver and photo release statement here.
URL:https://www.agingcareconnections.org/event/congregate-lunch-summit/
LOCATION:Summit Park District\, 5700 S. Archer Ave\, Summit\, IL\, United States
CATEGORIES:Community,Featured,Food,Senior Living Options,Social
END:VEVENT
END:VCALENDAR