BEGIN:VCALENDAR
VERSION:2.0
PRODID:-//Aging Care Connections - ECPv6.15.20//NONSGML v1.0//EN
CALSCALE:GREGORIAN
METHOD:PUBLISH
X-ORIGINAL-URL:https://www.agingcareconnections.org
X-WR-CALDESC:Events for Aging Care Connections
REFRESH-INTERVAL;VALUE=DURATION:PT1H
X-Robots-Tag:noindex
X-PUBLISHED-TTL:PT1H
BEGIN:VTIMEZONE
TZID:America/Chicago
BEGIN:DAYLIGHT
TZOFFSETFROM:-0600
TZOFFSETTO:-0500
TZNAME:CDT
DTSTART:20250309T080000
END:DAYLIGHT
BEGIN:STANDARD
TZOFFSETFROM:-0500
TZOFFSETTO:-0600
TZNAME:CST
DTSTART:20251102T070000
END:STANDARD
BEGIN:DAYLIGHT
TZOFFSETFROM:-0600
TZOFFSETTO:-0500
TZNAME:CDT
DTSTART:20260308T080000
END:DAYLIGHT
BEGIN:STANDARD
TZOFFSETFROM:-0500
TZOFFSETTO:-0600
TZNAME:CST
DTSTART:20261101T070000
END:STANDARD
BEGIN:DAYLIGHT
TZOFFSETFROM:-0600
TZOFFSETTO:-0500
TZNAME:CDT
DTSTART:20270314T080000
END:DAYLIGHT
BEGIN:STANDARD
TZOFFSETFROM:-0500
TZOFFSETTO:-0600
TZNAME:CST
DTSTART:20271107T070000
END:STANDARD
END:VTIMEZONE
BEGIN:VEVENT
DTSTART;TZID=America/Chicago:20260313T100000
DTEND;TZID=America/Chicago:20260313T120000
DTSTAMP:20260421T034141
CREATED:20260301T040424Z
LAST-MODIFIED:20260301T040424Z
UID:5222-1773396000-1773403200@www.agingcareconnections.org
SUMMARY:Movie Watch Party "Luck of the Irish" - ACC La Grange
DESCRIPTION:Join us for a wee bit o’ the green with “Luck of the Irish.” Enjoy the frolics with great company—see you there!\nFor questions\, contact awn@agingcareconnections.org or call 708-603-2275. \nRegistration is required. \nTo register: \n\n                \n                        \n                            Movie Watch Party - Luck of the Irish 3.13.26\n                            Workshop Registration \n                        \n                        Name(Required)\n                            \n                            \n                                                    \n                                                    First\n                                                \n                            \n                            \n                                                    \n                                                    Last\n                                                \n                            \n                        Email(Required)\n                            \n                        Phone(Required)Number attending(Required)1234
URL:https://www.agingcareconnections.org/event/movie-watch-party-luck-of-the-irish-acc-la-grange/
LOCATION:Aging Care Connections\, 111 W. Harris Avenue\, La Grange\, IL\, 60525\, United States
CATEGORIES:Movies and Theater,Social
ATTACH;FMTTYPE=image/jpeg:https://www.agingcareconnections.org/wp-content/uploads/2025/03/Movie-Time-Calendar-Image.jpg
END:VEVENT
END:VCALENDAR