BEGIN:VCALENDAR
VERSION:2.0
PRODID:-//Aging Care Connections - ECPv6.15.20//NONSGML v1.0//EN
CALSCALE:GREGORIAN
METHOD:PUBLISH
X-WR-CALNAME:Aging Care Connections
X-ORIGINAL-URL:https://www.agingcareconnections.org
X-WR-CALDESC:Events for Aging Care Connections
REFRESH-INTERVAL;VALUE=DURATION:PT1H
X-Robots-Tag:noindex
X-PUBLISHED-TTL:PT1H
BEGIN:VTIMEZONE
TZID:America/Chicago
BEGIN:DAYLIGHT
TZOFFSETFROM:-0600
TZOFFSETTO:-0500
TZNAME:CDT
DTSTART:20250309T080000
END:DAYLIGHT
BEGIN:STANDARD
TZOFFSETFROM:-0500
TZOFFSETTO:-0600
TZNAME:CST
DTSTART:20251102T070000
END:STANDARD
BEGIN:DAYLIGHT
TZOFFSETFROM:-0600
TZOFFSETTO:-0500
TZNAME:CDT
DTSTART:20260308T080000
END:DAYLIGHT
BEGIN:STANDARD
TZOFFSETFROM:-0500
TZOFFSETTO:-0600
TZNAME:CST
DTSTART:20261101T070000
END:STANDARD
BEGIN:DAYLIGHT
TZOFFSETFROM:-0600
TZOFFSETTO:-0500
TZNAME:CDT
DTSTART:20270314T080000
END:DAYLIGHT
BEGIN:STANDARD
TZOFFSETFROM:-0500
TZOFFSETTO:-0600
TZNAME:CST
DTSTART:20271107T070000
END:STANDARD
END:VTIMEZONE
BEGIN:VEVENT
DTSTART;TZID=America/Chicago:20260309T080000
DTEND;TZID=America/Chicago:20260309T100000
DTSTAMP:20260421T035901
CREATED:20260301T030844Z
LAST-MODIFIED:20260301T030844Z
UID:5168-1773043200-1773050400@www.agingcareconnections.org
SUMMARY:Senior Walking Club - Summit
DESCRIPTION:Join this growing group for fitness and fun. Stay for all or part of the session. \nQuestions? Contact us at awn@agingcareconnections.org or 708-582-6879\, or to register. \nRegistration required. \n 
URL:https://www.agingcareconnections.org/event/senior-walking-club-summit-87/
LOCATION:Summit Park District\, 5700 S. Archer Ave\, Summit\, IL\, United States
CATEGORIES:Fitness,Social
ATTACH;FMTTYPE=image/jpeg:https://www.agingcareconnections.org/wp-content/uploads/2024/11/ACC-Senior-Walking-Club-Calendar-Image-1.jpg
END:VEVENT
BEGIN:VEVENT
DTSTART;TZID=America/Chicago:20260309T100000
DTEND;TZID=America/Chicago:20260309T123000
DTSTAMP:20260421T035901
CREATED:20260301T033905Z
LAST-MODIFIED:20260301T052522Z
UID:5201-1773050400-1773059400@www.agingcareconnections.org
SUMMARY:Take Charge of Your Health - Bellwood
DESCRIPTION:Learn how to take charge of your health. \nQuestions? Contact awn@agingcareconnections.org or 708 603.2277. \nRegistration required. Space is limited \nTo register: \n\n                \n                        \n                            Take Charge of Your Health - Bellwood 3.9.26\n                            Workshop Registration \n                        \n                        Name(Required)\n                            \n                            \n                                                    \n                                                    First\n                                                \n                            \n                            \n                                                    \n                                                    Last\n                                                \n                            \n                        Email(Required)\n                            \n                        Phone(Required)Number attending(Required)1234
URL:https://www.agingcareconnections.org/event/take-charge-of-your-health-bellwood-3/
LOCATION:West Suburban Senior Services\, 439 Bohland Ave\, Bellwood\, Illinois
CATEGORIES:Fitness,Health & Wellness,Social
ATTACH;FMTTYPE=image/jpeg:https://www.agingcareconnections.org/wp-content/uploads/2026/02/ACC-Take-Charge-of-Your-Health-Calendar-Image.jpg
END:VEVENT
END:VCALENDAR