BEGIN:VCALENDAR
VERSION:2.0
PRODID:-//Aging Care Connections - ECPv6.15.20//NONSGML v1.0//EN
CALSCALE:GREGORIAN
METHOD:PUBLISH
X-WR-CALNAME:Aging Care Connections
X-ORIGINAL-URL:https://www.agingcareconnections.org
X-WR-CALDESC:Events for Aging Care Connections
REFRESH-INTERVAL;VALUE=DURATION:PT1H
X-Robots-Tag:noindex
X-PUBLISHED-TTL:PT1H
BEGIN:VTIMEZONE
TZID:America/Chicago
BEGIN:DAYLIGHT
TZOFFSETFROM:-0600
TZOFFSETTO:-0500
TZNAME:CDT
DTSTART:20250309T080000
END:DAYLIGHT
BEGIN:STANDARD
TZOFFSETFROM:-0500
TZOFFSETTO:-0600
TZNAME:CST
DTSTART:20251102T070000
END:STANDARD
BEGIN:DAYLIGHT
TZOFFSETFROM:-0600
TZOFFSETTO:-0500
TZNAME:CDT
DTSTART:20260308T080000
END:DAYLIGHT
BEGIN:STANDARD
TZOFFSETFROM:-0500
TZOFFSETTO:-0600
TZNAME:CST
DTSTART:20261101T070000
END:STANDARD
BEGIN:DAYLIGHT
TZOFFSETFROM:-0600
TZOFFSETTO:-0500
TZNAME:CDT
DTSTART:20270314T080000
END:DAYLIGHT
BEGIN:STANDARD
TZOFFSETFROM:-0500
TZOFFSETTO:-0600
TZNAME:CST
DTSTART:20271107T070000
END:STANDARD
END:VTIMEZONE
BEGIN:VEVENT
DTSTART;TZID=America/Chicago:20260303T123000
DTEND;TZID=America/Chicago:20260303T133000
DTSTAMP:20260421T033909
CREATED:20260301T032151Z
LAST-MODIFIED:20260301T032151Z
UID:5188-1772541000-1772544600@www.agingcareconnections.org
SUMMARY:Chair Yoga - Bridgeview
DESCRIPTION:Yoga is not only good for the body\, but good for the mind and soul\, as well. This group is fun and welcomes all levels! \nFor questions\, contact ACC at awn@agingcareconnections.org or call 708-603-2275. \nRegistration is required. \nTo register:
URL:https://www.agingcareconnections.org/event/chair-yoga-bridgeview-13/
LOCATION:Bridgeview Park District\, 8100 Beloit Ave.\, Bridgeview\, IL\, United States
CATEGORIES:Fitness,Health & Wellness
ATTACH;FMTTYPE=image/jpeg:https://www.agingcareconnections.org/wp-content/uploads/2024/12/ACC-Chair-Yoga-Justice-Calendar-Image.jpg
END:VEVENT
BEGIN:VEVENT
DTSTART;TZID=America/Chicago:20260303T130500
DTEND;TZID=America/Chicago:20260303T140000
DTSTAMP:20260421T033909
CREATED:20260301T032858Z
LAST-MODIFIED:20260301T033026Z
UID:5191-1772543100-1772546400@www.agingcareconnections.org
SUMMARY:IMPULSE Exercise: Chair Yoga - Westchester
DESCRIPTION:You can attend in person or via Zoom. \nPlease make sure your chair is on a flat and stable surface\, and there is space around you for the exercises. \nRegistration for in.-person attendance is required. \nFor questions\, contact awn@agincareconnections.org or call 708-603-2269. \nRegistration for in-person attendance is required. \nTo register:
URL:https://www.agingcareconnections.org/event/impulse-exercise-chair-yoga-westchester/
LOCATION:Impulse Rehab & Wellness\, 3075 S. Wolf Rd\, Westchester\, IL\, United States
CATEGORIES:Fitness,Health & Wellness
ATTACH;FMTTYPE=image/jpeg:https://www.agingcareconnections.org/wp-content/uploads/2024/12/ACC-Chair-Yoga-Justice-Calendar-Image.jpg
END:VEVENT
BEGIN:VEVENT
DTSTART;TZID=America/Chicago:20260303T133000
DTEND;TZID=America/Chicago:20260303T150000
DTSTAMP:20260421T033909
CREATED:20260301T050901Z
LAST-MODIFIED:20260301T050901Z
UID:5274-1772544600-1772550000@www.agingcareconnections.org
SUMMARY:Alzheimer's Caregiver Support Group - La Grange
DESCRIPTION:This group is for those caring for someone with Alzheimer’s Disease or other dementias. Support groups provide information\, resources\, tips\, and understanding from peers\, and are facilitated by a qualified Caregiver Specialist. \nNo registration required.
URL:https://www.agingcareconnections.org/event/alzheimers-caregiver-support-group-la-grange-5/
LOCATION:Aging Care Connections\, 111 W. Harris Avenue\, La Grange\, IL\, 60525\, United States
CATEGORIES:Support Group
ATTACH;FMTTYPE=image/jpeg:https://www.agingcareconnections.org/wp-content/uploads/2024/11/ACC-Caregiver-Support-Group-Calendar-Image.jpg
END:VEVENT
END:VCALENDAR