BEGIN:VCALENDAR
VERSION:2.0
PRODID:-//Aging Care Connections - ECPv6.15.20//NONSGML v1.0//EN
CALSCALE:GREGORIAN
METHOD:PUBLISH
X-WR-CALNAME:Aging Care Connections
X-ORIGINAL-URL:https://www.agingcareconnections.org
X-WR-CALDESC:Events for Aging Care Connections
REFRESH-INTERVAL;VALUE=DURATION:PT1H
X-Robots-Tag:noindex
X-PUBLISHED-TTL:PT1H
BEGIN:VTIMEZONE
TZID:America/Chicago
BEGIN:DAYLIGHT
TZOFFSETFROM:-0600
TZOFFSETTO:-0500
TZNAME:CDT
DTSTART:20250309T080000
END:DAYLIGHT
BEGIN:STANDARD
TZOFFSETFROM:-0500
TZOFFSETTO:-0600
TZNAME:CST
DTSTART:20251102T070000
END:STANDARD
BEGIN:DAYLIGHT
TZOFFSETFROM:-0600
TZOFFSETTO:-0500
TZNAME:CDT
DTSTART:20260308T080000
END:DAYLIGHT
BEGIN:STANDARD
TZOFFSETFROM:-0500
TZOFFSETTO:-0600
TZNAME:CST
DTSTART:20261101T070000
END:STANDARD
BEGIN:DAYLIGHT
TZOFFSETFROM:-0600
TZOFFSETTO:-0500
TZNAME:CDT
DTSTART:20270314T080000
END:DAYLIGHT
BEGIN:STANDARD
TZOFFSETFROM:-0500
TZOFFSETTO:-0600
TZNAME:CST
DTSTART:20271107T070000
END:STANDARD
END:VTIMEZONE
BEGIN:VEVENT
DTSTART;TZID=America/Chicago:20260227T123000
DTEND;TZID=America/Chicago:20260227T133000
DTSTAMP:20260421T071629
CREATED:20260130T055549Z
LAST-MODIFIED:20260130T055637Z
UID:5107-1772195400-1772199000@www.agingcareconnections.org
SUMMARY:Congregate Meals Event: Library Enrollment Presentation - Countryside
DESCRIPTION:Get the most from your library. Presented by Haley Reyes
URL:https://www.agingcareconnections.org/event/library-enrollment-presentation-countryside/
LOCATION:La Bella Events\, 5412 S. La Grange Road\, Countryside\, Illinois
END:VEVENT
END:VCALENDAR