BEGIN:VCALENDAR
VERSION:2.0
PRODID:-//Aging Care Connections - ECPv6.15.20//NONSGML v1.0//EN
CALSCALE:GREGORIAN
METHOD:PUBLISH
X-ORIGINAL-URL:https://www.agingcareconnections.org
X-WR-CALDESC:Events for Aging Care Connections
REFRESH-INTERVAL;VALUE=DURATION:PT1H
X-Robots-Tag:noindex
X-PUBLISHED-TTL:PT1H
BEGIN:VTIMEZONE
TZID:America/Chicago
BEGIN:DAYLIGHT
TZOFFSETFROM:-0600
TZOFFSETTO:-0500
TZNAME:CDT
DTSTART:20250309T080000
END:DAYLIGHT
BEGIN:STANDARD
TZOFFSETFROM:-0500
TZOFFSETTO:-0600
TZNAME:CST
DTSTART:20251102T070000
END:STANDARD
BEGIN:DAYLIGHT
TZOFFSETFROM:-0600
TZOFFSETTO:-0500
TZNAME:CDT
DTSTART:20260308T080000
END:DAYLIGHT
BEGIN:STANDARD
TZOFFSETFROM:-0500
TZOFFSETTO:-0600
TZNAME:CST
DTSTART:20261101T070000
END:STANDARD
BEGIN:DAYLIGHT
TZOFFSETFROM:-0600
TZOFFSETTO:-0500
TZNAME:CDT
DTSTART:20270314T080000
END:DAYLIGHT
BEGIN:STANDARD
TZOFFSETFROM:-0500
TZOFFSETTO:-0600
TZNAME:CST
DTSTART:20271107T070000
END:STANDARD
END:VTIMEZONE
BEGIN:VEVENT
DTSTART;TZID=America/Chicago:20260217T100000
DTEND;TZID=America/Chicago:20260217T120000
DTSTAMP:20260421T055232
CREATED:20260130T035546Z
LAST-MODIFIED:20260130T035546Z
UID:5021-1771322400-1771329600@www.agingcareconnections.org
SUMMARY:Movie Watch Party "Mama Mia" - ACC La Grange
DESCRIPTION:Join us for a musical morning with “Mama Mia.” Enjoy the happy songs\, fun cast\, and great company—see you there!\nFor questions\, contact awn@agingcareconnections.org or call 708-603-2275. \nRegistration is required. \nTo register: \n\n                \n                        \n                            Movie Watch Party - Mama Mia 2.17.26\n                            Workshop Registration \n                        \n                        Name(Required)\n                            \n                            \n                                                    \n                                                    First\n                                                \n                            \n                            \n                                                    \n                                                    Last\n                                                \n                            \n                        Email(Required)\n                            \n                        Phone(Required)Number attending(Required)1234
URL:https://www.agingcareconnections.org/event/movie-watch-party-mama-mia-acc-la-grange/
LOCATION:Aging Care Connections\, 111 W. Harris Avenue\, La Grange\, IL\, 60525\, United States
CATEGORIES:Movies and Theater,Social
ATTACH;FMTTYPE=image/jpeg:https://www.agingcareconnections.org/wp-content/uploads/2025/03/Movie-Time-Calendar-Image.jpg
END:VEVENT
BEGIN:VEVENT
DTSTART;TZID=America/Chicago:20260217T113000
DTEND;TZID=America/Chicago:20260217T140000
DTSTAMP:20260421T055232
CREATED:20260130T035932Z
LAST-MODIFIED:20260130T035932Z
UID:5024-1771327800-1771336800@www.agingcareconnections.org
SUMMARY:BINGO Lunch - Summit
DESCRIPTION:Join us for lunch and a fun afternoon of BINGO! \nQuestions? Contact awn@agingcareconnections.org or 708 582 6879. \nRegistration required. \nTo register: \n                \n                        \n                            Bingo Lunch - Summit - 2.17\n                            Workshop Registration \n                        \n                        Name(Required)\n                            \n                            \n                                                    \n                                                    First\n                                                \n                            \n                            \n                                                    \n                                                    Last\n                                                \n                            \n                        Email(Required)\n                            \n                        Phone(Required)Number attending(Required)1234Consent(Required) I agree to the waiver and photo release.Read our waiver and photo release statement here.
URL:https://www.agingcareconnections.org/event/bingo-lunch-summit-4/
LOCATION:Summit Park District\, 5700 S. Archer Ave\, Summit\, IL\, United States
CATEGORIES:Community,Food,Games
END:VEVENT
BEGIN:VEVENT
DTSTART;TZID=America/Chicago:20260217T123000
DTEND;TZID=America/Chicago:20260217T133000
DTSTAMP:20260421T055232
CREATED:20260130T054644Z
LAST-MODIFIED:20260130T060301Z
UID:5095-1771331400-1771335000@www.agingcareconnections.org
SUMMARY:Congregate Meals Event: BINGO Lunch - Countryside
DESCRIPTION:Join us for lunch and a fun afternoon of BINGO! \n 
URL:https://www.agingcareconnections.org/event/bingo-lunch-countryside-2/
LOCATION:La Bella Events\, 5412 S. La Grange Road\, Countryside\, Illinois
CATEGORIES:Community,Food,Games
END:VEVENT
BEGIN:VEVENT
DTSTART;TZID=America/Chicago:20260217T130500
DTEND;TZID=America/Chicago:20260217T140000
DTSTAMP:20260421T055232
CREATED:20260130T040359Z
LAST-MODIFIED:20260130T040359Z
UID:5027-1771333500-1771336800@www.agingcareconnections.org
SUMMARY:Chair Aerobics - Westchester or Zoom
DESCRIPTION:Start the summer right with some safe\, fun fitness! \nJoin in person or via Zoom. \nIn person: IMPULSE Rehab & Wellness \nVia Zoom: You will receive the Zoom link and login information via confirmation email upon registration. \nFor questions\, contact us at awn@agingcareconnections.org or call 708-603-2275. \nRegistration is required. \nTo register: \n                \n                        \n                            Chair Aerobics 2.17.26\n                            Workshop Registration \n                        \n                        Name(Required)\n                            \n                            \n                                                    \n                                                    First\n                                                \n                            \n                            \n                                                    \n                                                    Last\n                                                \n                            \n                        Email(Required)\n                            \n                        Phone(Required)Number attending(Required)1234Consent(Required) I agree to the waiver and photo release.Read our waiver and photo release statement here.
URL:https://www.agingcareconnections.org/event/chair-aerobics-westchester-or-zoom-3/
LOCATION:Impulse Rehab & Wellness\, 3075 S. Wolf Rd\, Westchester\, IL\, United States
CATEGORIES:Fitness,Health & Wellness
ATTACH;FMTTYPE=image/jpeg:https://www.agingcareconnections.org/wp-content/uploads/2025/01/ACC-Chair-Aerobics-Calendar-Image.jpg
END:VEVENT
BEGIN:VEVENT
DTSTART;TZID=America/Chicago:20260217T133000
DTEND;TZID=America/Chicago:20260217T150000
DTSTAMP:20260421T055232
CREATED:20260130T050625Z
LAST-MODIFIED:20260130T050625Z
UID:5063-1771335000-1771340400@www.agingcareconnections.org
SUMMARY:Caregiver Support Group - La Grange
DESCRIPTION:The demands of caregiving can be tiring and time-consuming. Caring for yourself is critical. Led by aging care experts\, caregivers share stories\, exchange ideas and learn more about living with the disease and the resources available. \nNo registration required.
URL:https://www.agingcareconnections.org/event/caregiver-support-group-la-grange-20/
LOCATION:Aging Care Connections\, 111 W. Harris Avenue\, La Grange\, IL\, 60525\, United States
CATEGORIES:Support Group
ATTACH;FMTTYPE=image/jpeg:https://www.agingcareconnections.org/wp-content/uploads/2024/11/ACC-Caregiver-Support-Group-Calendar-Image.jpg
END:VEVENT
END:VCALENDAR