BEGIN:VCALENDAR
VERSION:2.0
PRODID:-//Aging Care Connections - ECPv6.15.20//NONSGML v1.0//EN
CALSCALE:GREGORIAN
METHOD:PUBLISH
X-WR-CALNAME:Aging Care Connections
X-ORIGINAL-URL:https://www.agingcareconnections.org
X-WR-CALDESC:Events for Aging Care Connections
REFRESH-INTERVAL;VALUE=DURATION:PT1H
X-Robots-Tag:noindex
X-PUBLISHED-TTL:PT1H
BEGIN:VTIMEZONE
TZID:America/Chicago
BEGIN:DAYLIGHT
TZOFFSETFROM:-0600
TZOFFSETTO:-0500
TZNAME:CDT
DTSTART:20250309T080000
END:DAYLIGHT
BEGIN:STANDARD
TZOFFSETFROM:-0500
TZOFFSETTO:-0600
TZNAME:CST
DTSTART:20251102T070000
END:STANDARD
BEGIN:DAYLIGHT
TZOFFSETFROM:-0600
TZOFFSETTO:-0500
TZNAME:CDT
DTSTART:20260308T080000
END:DAYLIGHT
BEGIN:STANDARD
TZOFFSETFROM:-0500
TZOFFSETTO:-0600
TZNAME:CST
DTSTART:20261101T070000
END:STANDARD
BEGIN:DAYLIGHT
TZOFFSETFROM:-0600
TZOFFSETTO:-0500
TZNAME:CDT
DTSTART:20270314T080000
END:DAYLIGHT
BEGIN:STANDARD
TZOFFSETFROM:-0500
TZOFFSETTO:-0600
TZNAME:CST
DTSTART:20271107T070000
END:STANDARD
END:VTIMEZONE
BEGIN:VEVENT
DTSTART;TZID=America/Chicago:20260212T093000
DTEND;TZID=America/Chicago:20260212T103000
DTSTAMP:20260421T050217
CREATED:20260130T034717Z
LAST-MODIFIED:20260130T034717Z
UID:5018-1770888600-1770892200@www.agingcareconnections.org
SUMMARY:Mindful Movement - Western Springs
DESCRIPTION:ACC recently partnered with OptWell to offer Mindful Movement; this free program is designed to promote physical activity\, mental wellness\, and social connection through guided group sessions. Open to adults (18+) of all fitness levels\, the program combines movement—stretching\, functional exercises\, balance\, and light strength training—with mindfulness practices like deep breathing and guided reflection. \nFor information\, call 708-603-2275. \nRegistration is required. \nTo register:
URL:https://www.agingcareconnections.org/event/mindful-movement-western-springs-5/
LOCATION:First Congregational Church of Western Springs\, 1106 Chestnut Street\, Western Springs\, Illinois\, 60558
CATEGORIES:Community,Fitness,Health & Wellness,Social
ATTACH;FMTTYPE=image/jpeg:https://www.agingcareconnections.org/wp-content/uploads/2025/12/ACC-Mindful-Movement-Calendar-Image.jpg
END:VEVENT
BEGIN:VEVENT
DTSTART;TZID=America/Chicago:20260212T113000
DTEND;TZID=America/Chicago:20260212T123000
DTSTAMP:20260421T050217
CREATED:20260130T053943Z
LAST-MODIFIED:20260130T060500Z
UID:5088-1770895800-1770899400@www.agingcareconnections.org
SUMMARY:Congregate Meals Event: Things You Should Know - Countryside
DESCRIPTION:Two events in one: \n\nSee what may be owed to you\nBlood pressure screening
URL:https://www.agingcareconnections.org/event/things-you-should-know-countryside/
LOCATION:IL
END:VEVENT
BEGIN:VEVENT
DTSTART;TZID=America/Chicago:20260212T123000
DTEND;TZID=America/Chicago:20260212T133000
DTSTAMP:20260421T050217
CREATED:20260130T054213Z
LAST-MODIFIED:20260130T060355Z
UID:5091-1770899400-1770903000@www.agingcareconnections.org
SUMMARY:Congregate Meals Event: Crocheting with Carol - Countryside
DESCRIPTION:Join us for crafting fun.
URL:https://www.agingcareconnections.org/event/crocheting-with-carol-countryside/
LOCATION:La Bella Events\, 5412 S. La Grange Road\, Countryside\, Illinois
CATEGORIES:Arts & Crafts
END:VEVENT
END:VCALENDAR