BEGIN:VCALENDAR
VERSION:2.0
PRODID:-//Aging Care Connections - ECPv6.15.20//NONSGML v1.0//EN
CALSCALE:GREGORIAN
METHOD:PUBLISH
X-WR-CALNAME:Aging Care Connections
X-ORIGINAL-URL:https://www.agingcareconnections.org
X-WR-CALDESC:Events for Aging Care Connections
REFRESH-INTERVAL;VALUE=DURATION:PT1H
X-Robots-Tag:noindex
X-PUBLISHED-TTL:PT1H
BEGIN:VTIMEZONE
TZID:America/Chicago
BEGIN:DAYLIGHT
TZOFFSETFROM:-0600
TZOFFSETTO:-0500
TZNAME:CDT
DTSTART:20250309T080000
END:DAYLIGHT
BEGIN:STANDARD
TZOFFSETFROM:-0500
TZOFFSETTO:-0600
TZNAME:CST
DTSTART:20251102T070000
END:STANDARD
BEGIN:DAYLIGHT
TZOFFSETFROM:-0600
TZOFFSETTO:-0500
TZNAME:CDT
DTSTART:20260308T080000
END:DAYLIGHT
BEGIN:STANDARD
TZOFFSETFROM:-0500
TZOFFSETTO:-0600
TZNAME:CST
DTSTART:20261101T070000
END:STANDARD
BEGIN:DAYLIGHT
TZOFFSETFROM:-0600
TZOFFSETTO:-0500
TZNAME:CDT
DTSTART:20270314T080000
END:DAYLIGHT
BEGIN:STANDARD
TZOFFSETFROM:-0500
TZOFFSETTO:-0600
TZNAME:CST
DTSTART:20271107T070000
END:STANDARD
END:VTIMEZONE
BEGIN:VEVENT
DTSTART;TZID=America/Chicago:20260210T111500
DTEND;TZID=America/Chicago:20260210T121500
DTSTAMP:20260421T050143
CREATED:20260130T032050Z
LAST-MODIFIED:20260130T032050Z
UID:5001-1770722100-1770725700@www.agingcareconnections.org
SUMMARY:Senior Chair Yoga - Summit
DESCRIPTION:Yoga is not only good for the body\, but good for the mind and soul\, as well. Take a break from your busy schedule and join us. \nFor questions\, contact us at awn@agingcareconnections.org. \nRegistration required. Call 708-582-6879. \nTo register:
URL:https://www.agingcareconnections.org/event/senior-chair-yoga-summit-20/
LOCATION:Summit Public Library\, 6233 S. Archer Rd.\, Summmit\, IL\, United States
CATEGORIES:Fitness,Health & Wellness
ATTACH;FMTTYPE=image/jpeg:https://www.agingcareconnections.org/wp-content/uploads/2024/11/ACC-Chair-Yoga-Calendar-Image.jpg
END:VEVENT
BEGIN:VEVENT
DTSTART;TZID=America/Chicago:20260210T123000
DTEND;TZID=America/Chicago:20260210T133000
DTSTAMP:20260421T050143
CREATED:20260130T053456Z
LAST-MODIFIED:20260130T060733Z
UID:5084-1770726600-1770730200@www.agingcareconnections.org
SUMMARY:Congregate Meals Event: BINGO Lunch - Countryside
DESCRIPTION:Join us for lunch and a fun afternoon of BINGO! \n 
URL:https://www.agingcareconnections.org/event/bingo-lunch-countryside/
LOCATION:La Bella Events\, 5412 S. La Grange Road\, Countryside\, Illinois
CATEGORIES:Community,Food,Games
END:VEVENT
BEGIN:VEVENT
DTSTART;TZID=America/Chicago:20260210T130000
DTEND;TZID=America/Chicago:20260210T143000
DTSTAMP:20260421T050143
CREATED:20260130T032707Z
LAST-MODIFIED:20260130T211755Z
UID:5004-1770728400-1770733800@www.agingcareconnections.org
SUMMARY:Café y Arte - Summit
DESCRIPTION:Join us for a fun afternoon of activities and socializing! \nFor questions\, contact awn@agingcareconnections.org or 708-582-6879. \nRegistration required. Call or email us today! \nTo register: \n\n                \n                        \n                            Cafe y Arte - Summit - 2.10.26\n                            Workshop Registration \n                        \n                        Name(Required)\n                            \n                            \n                                                    \n                                                    First\n                                                \n                            \n                            \n                                                    \n                                                    Last\n                                                \n                            \n                        Email(Required)\n                            \n                        Phone(Required)Number attending(Required)1234
URL:https://www.agingcareconnections.org/event/cafe-y-arte/
LOCATION:Summit Park District\, 5700 S. Archer Ave\, Summit\, IL\, United States
CATEGORIES:Arts & Crafts,Community,Fitness,Social
END:VEVENT
BEGIN:VEVENT
DTSTART;TZID=America/Chicago:20260210T133000
DTEND;TZID=America/Chicago:20260210T143000
DTSTAMP:20260421T050143
CREATED:20260130T032953Z
LAST-MODIFIED:20260130T032953Z
UID:5007-1770730200-1770733800@www.agingcareconnections.org
SUMMARY:HUH - Help Us Hear - La Grange Park
DESCRIPTION:This ongoing support and learning group provides information and resources for those with hearing impairments and those that support loved ones with hearing loss. \nFor questions\, contact awn@agingcareconnections.org or call 708-603-2277. \nRegistration is required. Call or email us or use the link below. \nTo register: \n                \n                        \n                            HUH - Help Us Hear - La Grange Park 2.10.26\n                            Workshop Registration \n                        \n                        Name(Required)\n                            \n                            \n                                                    \n                                                    First\n                                                \n                            \n                            \n                                                    \n                                                    Last\n                                                \n                            \n                        Email(Required)\n                            \n                        Phone(Required)Number attending(Required)1234
URL:https://www.agingcareconnections.org/event/huh-help-us-hear-la-grange-park-4/
LOCATION:La Grange Park Public Library\, 555 N. La Grange Road\, La Grange\, Illinois
CATEGORIES:Community,Health & Wellness,Support Group
ATTACH;FMTTYPE=image/jpeg:https://www.agingcareconnections.org/wp-content/uploads/2024/11/ACC-Help-Us-Hear-Calendar-Image.jpg
END:VEVENT
BEGIN:VEVENT
DTSTART;TZID=America/Chicago:20260210T133000
DTEND;TZID=America/Chicago:20260210T150000
DTSTAMP:20260421T050143
CREATED:20260130T050944Z
LAST-MODIFIED:20260130T050944Z
UID:5067-1770730200-1770735600@www.agingcareconnections.org
SUMMARY:Alzheimer's Caregiver Support Group - La Grange
DESCRIPTION:This group is for those caring for someone with Alzheimer’s Disease or other dementias. Support groups provide information\, resources\, tips\, and understanding from peers\, and are facilitated by a qualified Caregiver Specialist. \nNo registration required.
URL:https://www.agingcareconnections.org/event/alzheimers-caregiver-support-group-la-grange-4/
LOCATION:Aging Care Connections\, 111 W. Harris Avenue\, La Grange\, IL\, 60525\, United States
CATEGORIES:Support Group
ATTACH;FMTTYPE=image/jpeg:https://www.agingcareconnections.org/wp-content/uploads/2024/11/ACC-Caregiver-Support-Group-Calendar-Image.jpg
END:VEVENT
END:VCALENDAR