BEGIN:VCALENDAR
VERSION:2.0
PRODID:-//Aging Care Connections - ECPv6.15.20//NONSGML v1.0//EN
CALSCALE:GREGORIAN
METHOD:PUBLISH
X-ORIGINAL-URL:https://www.agingcareconnections.org
X-WR-CALDESC:Events for Aging Care Connections
REFRESH-INTERVAL;VALUE=DURATION:PT1H
X-Robots-Tag:noindex
X-PUBLISHED-TTL:PT1H
BEGIN:VTIMEZONE
TZID:America/Chicago
BEGIN:DAYLIGHT
TZOFFSETFROM:-0600
TZOFFSETTO:-0500
TZNAME:CDT
DTSTART:20250309T080000
END:DAYLIGHT
BEGIN:STANDARD
TZOFFSETFROM:-0500
TZOFFSETTO:-0600
TZNAME:CST
DTSTART:20251102T070000
END:STANDARD
BEGIN:DAYLIGHT
TZOFFSETFROM:-0600
TZOFFSETTO:-0500
TZNAME:CDT
DTSTART:20260308T080000
END:DAYLIGHT
BEGIN:STANDARD
TZOFFSETFROM:-0500
TZOFFSETTO:-0600
TZNAME:CST
DTSTART:20261101T070000
END:STANDARD
BEGIN:DAYLIGHT
TZOFFSETFROM:-0600
TZOFFSETTO:-0500
TZNAME:CDT
DTSTART:20270314T080000
END:DAYLIGHT
BEGIN:STANDARD
TZOFFSETFROM:-0500
TZOFFSETTO:-0600
TZNAME:CST
DTSTART:20271107T070000
END:STANDARD
END:VTIMEZONE
BEGIN:VEVENT
DTSTART;TZID=America/Chicago:20260128T080000
DTEND;TZID=America/Chicago:20260128T100000
DTSTAMP:20260421T113809
CREATED:20260102T230929Z
LAST-MODIFIED:20260102T230929Z
UID:4827-1769587200-1769594400@www.agingcareconnections.org
SUMMARY:Senior Walking Club - Summit
DESCRIPTION:Join this growing group for fitness and fun. Stay for all or part of the session. \nQuestions? Contact us at awn@agingcareconnections.org or 708-582-6879. \nRegistration required. Call or email us today! \n 
URL:https://www.agingcareconnections.org/event/senior-walking-club-summit-78/
LOCATION:Summit Park District\, 5700 S. Archer Ave\, Summit\, IL\, United States
CATEGORIES:Fitness,Social
ATTACH;FMTTYPE=image/jpeg:https://www.agingcareconnections.org/wp-content/uploads/2024/11/ACC-Senior-Walking-Club-Calendar-Image-1.jpg
END:VEVENT
BEGIN:VEVENT
DTSTART;TZID=America/Chicago:20260128T103000
DTEND;TZID=America/Chicago:20260128T123000
DTSTAMP:20260421T113809
CREATED:20260105T011538Z
LAST-MODIFIED:20260128T153934Z
UID:4875-1769596200-1769603400@www.agingcareconnections.org
SUMMARY:Café & Arte - Line Dancing! - Summit - CANCELLED
DESCRIPTION:*We apologize for the inconvenience\, but this event has been cancelled due to issues at the rec center. \n  \nLine Dancing is good for both body and soul! \nFor questions\, contact awn@agingcareconnections.org or 708-582-6879. \nRegistration required. Call or email us today!
URL:https://www.agingcareconnections.org/event/cafe-arte-line-dancing-summit-5/
LOCATION:Summit Park District\, 5700 S. Archer Ave\, Summit\, IL\, United States
CATEGORIES:Community,Fitness,Social
END:VEVENT
BEGIN:VEVENT
DTSTART;TZID=America/Chicago:20260128T140000
DTEND;TZID=America/Chicago:20260128T150000
DTSTAMP:20260421T113809
CREATED:20260105T011822Z
LAST-MODIFIED:20260105T015110Z
UID:4877-1769608800-1769612400@www.agingcareconnections.org
SUMMARY:Qi Gong - ACC La Grange
DESCRIPTION:Qi Gong is an ancient practice involving coordinated body movements\, breathing\, and meditation to enhance health and spirituality. Originating from Chinese medicine\, philosophy\, and martial arts\, it aims to balance and cultivate “Qi\,” or life energy. Tom’s classes focus on standing exercises that improve mobility and flexibility in all joints\, promoting suppleness and youthful vitality. \nThis process is often described as “oiling the joints”. \nFor questions\, contact awn@agingcareconnections.org or call 708-603-2277. \nRegistration is required. \nTo register: \n\n                \n                        \n                            Qi Gong - La Grange 1.28\n                            Workshop Registration \n                        \n                        Name(Required)\n                            \n                            \n                                                    \n                                                    First\n                                                \n                            \n                            \n                                                    \n                                                    Last\n                                                \n                            \n                        Email(Required)\n                            \n                        Phone(Required)Number attending(Required)1234
URL:https://www.agingcareconnections.org/event/qi-gong-acc-la-grange-9/
LOCATION:Aging Care Connections\, 111 W. Harris Avenue\, La Grange\, IL\, 60525\, United States
CATEGORIES:Fitness,Health & Wellness
ATTACH;FMTTYPE=image/jpeg:https://www.agingcareconnections.org/wp-content/uploads/2024/11/ACC-Qi-Gong-Calendar-Image.jpg
END:VEVENT
END:VCALENDAR