BEGIN:VCALENDAR
VERSION:2.0
PRODID:-//Aging Care Connections - ECPv6.15.20//NONSGML v1.0//EN
CALSCALE:GREGORIAN
METHOD:PUBLISH
X-ORIGINAL-URL:https://www.agingcareconnections.org
X-WR-CALDESC:Events for Aging Care Connections
REFRESH-INTERVAL;VALUE=DURATION:PT1H
X-Robots-Tag:noindex
X-PUBLISHED-TTL:PT1H
BEGIN:VTIMEZONE
TZID:America/Chicago
BEGIN:DAYLIGHT
TZOFFSETFROM:-0600
TZOFFSETTO:-0500
TZNAME:CDT
DTSTART:20250309T080000
END:DAYLIGHT
BEGIN:STANDARD
TZOFFSETFROM:-0500
TZOFFSETTO:-0600
TZNAME:CST
DTSTART:20251102T070000
END:STANDARD
BEGIN:DAYLIGHT
TZOFFSETFROM:-0600
TZOFFSETTO:-0500
TZNAME:CDT
DTSTART:20260308T080000
END:DAYLIGHT
BEGIN:STANDARD
TZOFFSETFROM:-0500
TZOFFSETTO:-0600
TZNAME:CST
DTSTART:20261101T070000
END:STANDARD
BEGIN:DAYLIGHT
TZOFFSETFROM:-0600
TZOFFSETTO:-0500
TZNAME:CDT
DTSTART:20270314T080000
END:DAYLIGHT
BEGIN:STANDARD
TZOFFSETFROM:-0500
TZOFFSETTO:-0600
TZNAME:CST
DTSTART:20271107T070000
END:STANDARD
END:VTIMEZONE
BEGIN:VEVENT
DTSTART;TZID=America/Chicago:20260121T080000
DTEND;TZID=America/Chicago:20260121T100000
DTSTAMP:20260421T223504
CREATED:20260102T230802Z
LAST-MODIFIED:20260102T230802Z
UID:4823-1768982400-1768989600@www.agingcareconnections.org
SUMMARY:Senior Walking Club - Summit
DESCRIPTION:Join this growing group for fitness and fun. Stay for all or part of the session. \nQuestions? Contact us at awn@agingcareconnections.org or 708-582-6879. \nRegistration required. Call or email us today! \n 
URL:https://www.agingcareconnections.org/event/senior-walking-club-summit-76/
LOCATION:Summit Park District\, 5700 S. Archer Ave\, Summit\, IL\, United States
CATEGORIES:Fitness,Social
ATTACH;FMTTYPE=image/jpeg:https://www.agingcareconnections.org/wp-content/uploads/2024/11/ACC-Senior-Walking-Club-Calendar-Image-1.jpg
END:VEVENT
BEGIN:VEVENT
DTSTART;TZID=America/Chicago:20260121T100000
DTEND;TZID=America/Chicago:20260121T113000
DTSTAMP:20260421T223504
CREATED:20260105T014111Z
LAST-MODIFIED:20260105T014111Z
UID:4888-1768989600-1768995000@www.agingcareconnections.org
SUMMARY:Caregiver Support Group - La Grange
DESCRIPTION:The needs and demands of caregiving can be tiring and time-consuming. Caring for yourself is critical. Led by aging care experts\, caregivers share stories\, exchange ideas and learn more about living with the disease and the resources available. \nNo registration required.
URL:https://www.agingcareconnections.org/event/caregiver-support-group-la-grange-17/
LOCATION:Aging Care Connections\, 111 W. Harris Avenue\, La Grange\, IL\, 60525\, United States
CATEGORIES:Support Group
ATTACH;FMTTYPE=image/jpeg:https://www.agingcareconnections.org/wp-content/uploads/2024/11/ACC-Caregiver-Support-Group-Calendar-Image.jpg
END:VEVENT
BEGIN:VEVENT
DTSTART;TZID=America/Chicago:20260121T103000
DTEND;TZID=America/Chicago:20260121T113000
DTSTAMP:20260421T223504
CREATED:20260105T005412Z
LAST-MODIFIED:20260105T005412Z
UID:4863-1768991400-1768995000@www.agingcareconnections.org
SUMMARY:Art & Ice Cream - Bellwood
DESCRIPTION:Let’s do a craft together and enjoy a sweet treat! \nFor questions\, contact awn@agingcareconnections.org or call 708-603-2277. \nRegistration is required. \nTo register: \n\n                \n                        \n                            Art & Ice Cream - Bellwood 1.21\n                            Workshop Registration \n                        \n                        Name(Required)\n                            \n                            \n                                                    \n                                                    First\n                                                \n                            \n                            \n                                                    \n                                                    Last\n                                                \n                            \n                        Email(Required)\n                            \n                        Phone(Required)Number attending(Required)1234
URL:https://www.agingcareconnections.org/event/art-ice-cream-bellwood-5/
LOCATION:West Suburban Senior Services\, 439 Bohland Ave\, Bellwood\, Illinois
CATEGORIES:Arts & Crafts,Food
ATTACH;FMTTYPE=image/jpeg:https://www.agingcareconnections.org/wp-content/uploads/2024/11/ACC-Art-and-Ice-Cream-Calendar-Image.jpg
END:VEVENT
BEGIN:VEVENT
DTSTART;TZID=America/Chicago:20260121T113000
DTEND;TZID=America/Chicago:20260121T143000
DTSTAMP:20260421T223504
CREATED:20260105T005915Z
LAST-MODIFIED:20260105T005915Z
UID:4866-1768995000-1769005800@www.agingcareconnections.org
SUMMARY:Bingo Lunch - Summit
DESCRIPTION:Join us for lunch and a fun afternoon of BINGO! \nQuestions? Contact awn@agingcareconnections.org or 708 582 6879. \nRegistration required. \nTo register: \n                \n                        \n                            Bingo Lunch - Summit - 1.21\n                            Workshop Registration \n                        \n                        Name(Required)\n                            \n                            \n                                                    \n                                                    First\n                                                \n                            \n                            \n                                                    \n                                                    Last\n                                                \n                            \n                        Email(Required)\n                            \n                        Phone(Required)Number attending(Required)1234Consent(Required) I agree to the waiver and photo release.Read our waiver and photo release statement here.
URL:https://www.agingcareconnections.org/event/bingo-lunch-summit-3/
LOCATION:Summit Park District\, 5700 S. Archer Ave\, Summit\, IL\, United States
CATEGORIES:Community,Food,Games
END:VEVENT
END:VCALENDAR