BEGIN:VCALENDAR
VERSION:2.0
PRODID:-//Aging Care Connections - ECPv6.15.20//NONSGML v1.0//EN
CALSCALE:GREGORIAN
METHOD:PUBLISH
X-ORIGINAL-URL:https://www.agingcareconnections.org
X-WR-CALDESC:Events for Aging Care Connections
REFRESH-INTERVAL;VALUE=DURATION:PT1H
X-Robots-Tag:noindex
X-PUBLISHED-TTL:PT1H
BEGIN:VTIMEZONE
TZID:America/Chicago
BEGIN:DAYLIGHT
TZOFFSETFROM:-0600
TZOFFSETTO:-0500
TZNAME:CDT
DTSTART:20250309T080000
END:DAYLIGHT
BEGIN:STANDARD
TZOFFSETFROM:-0500
TZOFFSETTO:-0600
TZNAME:CST
DTSTART:20251102T070000
END:STANDARD
BEGIN:DAYLIGHT
TZOFFSETFROM:-0600
TZOFFSETTO:-0500
TZNAME:CDT
DTSTART:20260308T080000
END:DAYLIGHT
BEGIN:STANDARD
TZOFFSETFROM:-0500
TZOFFSETTO:-0600
TZNAME:CST
DTSTART:20261101T070000
END:STANDARD
BEGIN:DAYLIGHT
TZOFFSETFROM:-0600
TZOFFSETTO:-0500
TZNAME:CDT
DTSTART:20270314T080000
END:DAYLIGHT
BEGIN:STANDARD
TZOFFSETFROM:-0500
TZOFFSETTO:-0600
TZNAME:CST
DTSTART:20271107T070000
END:STANDARD
END:VTIMEZONE
BEGIN:VEVENT
DTSTART;TZID=America/Chicago:20260114T080000
DTEND;TZID=America/Chicago:20260114T100000
DTSTAMP:20260422T104542
CREATED:20260102T230641Z
LAST-MODIFIED:20260102T230714Z
UID:4821-1768377600-1768384800@www.agingcareconnections.org
SUMMARY:Senior Walking Club - Summit
DESCRIPTION:Join this growing group for fitness and fun. Stay for all or part of the session. \nQuestions? Contact us at awn@agingcareconnections.org or 708-582-6879. \nRegistration required. Call or email us today! \n 
URL:https://www.agingcareconnections.org/event/senior-walking-club-summit-75/
LOCATION:Summit Park District\, 5700 S. Archer Ave\, Summit\, IL\, United States
CATEGORIES:Fitness,Social
ATTACH;FMTTYPE=image/jpeg:https://www.agingcareconnections.org/wp-content/uploads/2024/11/ACC-Senior-Walking-Club-Calendar-Image-1.jpg
END:VEVENT
BEGIN:VEVENT
DTSTART;TZID=America/Chicago:20260114T111500
DTEND;TZID=America/Chicago:20260114T130000
DTSTAMP:20260422T104542
CREATED:20260105T003029Z
LAST-MODIFIED:20260105T005514Z
UID:4845-1768389300-1768395600@www.agingcareconnections.org
SUMMARY:Lunch and Learn - Westchester
DESCRIPTION:Fabulous catered lunch and activity. We have room for 100 people. Must be 60+. \nFor questions\, contact awn@agingcareconnections.org or call 708-603-2277. \nRegistration required. \nTo register: \n\n                \n                        \n                            Lunch and Learn - Westchester 1.14.26\n                            Workshop Registration \n                        \n                        Name(Required)\n                            \n                            \n                                                    \n                                                    First\n                                                \n                            \n                            \n                                                    \n                                                    Last\n                                                \n                            \n                        Email(Required)\n                            \n                        Phone(Required)Number attending(Required)1234
URL:https://www.agingcareconnections.org/event/lunch-and-learn-westchester/
LOCATION:Mayfair Recreation Center\, 10835 Wakefield St.\, Westchester\, Illinois
CATEGORIES:Community,Food,Social
END:VEVENT
BEGIN:VEVENT
DTSTART;TZID=America/Chicago:20260114T140000
DTEND;TZID=America/Chicago:20260114T150000
DTSTAMP:20260422T104542
CREATED:20260105T003505Z
LAST-MODIFIED:20260105T003505Z
UID:4848-1768399200-1768402800@www.agingcareconnections.org
SUMMARY:Qi Gong - ACC La Grange
DESCRIPTION:Qi Gong is an ancient practice involving coordinated body movements\, breathing\, and meditation to enhance health and spirituality. Originating from Chinese medicine\, philosophy\, and martial arts\, it aims to balance and cultivate “Qi\,” or life energy. Tom’s classes focus on standing exercises that improve mobility and flexibility in all joints\, promoting suppleness and youthful vitality. \nThis process is often described as “oiling the joints”. \nFor questions\, contact awn@agingcareconnections.org or call 708-603-2277. \nRegistration is required. \nTo register: \n                \n                        \n                            Qi Gong - La Grange\n                            Workshop Registration \n                        \n                        Name(Required)\n                            \n                            \n                                                    \n                                                    First\n                                                \n                            \n                            \n                                                    \n                                                    Last\n                                                \n                            \n                        Email(Required)\n                            \n                        Phone(Required)Number attending(Required)1234
URL:https://www.agingcareconnections.org/event/qi-gong-acc-la-grange-8/
LOCATION:Aging Care Connections\, 111 W. Harris Avenue\, La Grange\, IL\, 60525\, United States
CATEGORIES:Fitness,Health & Wellness
ATTACH;FMTTYPE=image/jpeg:https://www.agingcareconnections.org/wp-content/uploads/2024/11/ACC-Qi-Gong-Calendar-Image.jpg
END:VEVENT
END:VCALENDAR